BEGIN:VCALENDAR
VERSION:2.0
PRODID:-//The Beats of Africa - ECPv6.15.20//NONSGML v1.0//EN
CALSCALE:GREGORIAN
METHOD:PUBLISH
X-WR-CALNAME:The Beats of Africa
X-ORIGINAL-URL:https://thebeatsofafrica.com
X-WR-CALDESC:Events for The Beats of Africa
REFRESH-INTERVAL;VALUE=DURATION:PT1H
X-Robots-Tag:noindex
X-PUBLISHED-TTL:PT1H
BEGIN:VTIMEZONE
TZID:+01:00
END:VTIMEZONE
BEGIN:VEVENT
DTSTART;TZID=+01:00:20251228T200000
DTEND;TZID=+01:00:20251229T030000
DTSTAMP:20260424T100851
CREATED:20251214T140058Z
LAST-MODIFIED:20251214T140058Z
UID:11505-1766952000-1766977200@thebeatsofafrica.com
SUMMARY:Spinall ÈKÓ Groove
DESCRIPTION:
URL:https://thebeatsofafrica.com/beats-event/spinall-eko-groove/
LOCATION:J. Randle Centre for Yorùbá Culture & History\, By J.K. Randle Rd\, Onikan Round About\, Onikan \, Lagos\, 102273\, Nigeria
CATEGORIES:Club Night
ATTACH;FMTTYPE=image/jpeg:https://thebeatsofafrica.com/wp-content/uploads/2025/12/EKO-Groove.jpg
END:VEVENT
END:VCALENDAR