BEGIN:VCALENDAR
VERSION:2.0
PRODID:-//The Beats of Africa - ECPv6.15.20//NONSGML v1.0//EN
CALSCALE:GREGORIAN
METHOD:PUBLISH
X-WR-CALNAME:The Beats of Africa
X-ORIGINAL-URL:https://thebeatsofafrica.com
X-WR-CALDESC:Events for The Beats of Africa
REFRESH-INTERVAL;VALUE=DURATION:PT1H
X-Robots-Tag:noindex
X-PUBLISHED-TTL:PT1H
BEGIN:VTIMEZONE
TZID:+02:00
END:VTIMEZONE
BEGIN:VEVENT
DTSTART;TZID=+02:00:20260321T180000
DTEND;TZID=+02:00:20260322T020000
DTSTAMP:20260424T101218
CREATED:20260303T031144Z
LAST-MODIFIED:20260303T031144Z
UID:12899-1774116000-1774144800@thebeatsofafrica.com
SUMMARY:Soundz of Neptune Ministry Rwanda
DESCRIPTION:
URL:https://thebeatsofafrica.com/beats-event/soundz-of-neptune-ministry-rwanda/
LOCATION:Atelier Du Vin\, Gatuna Road Karuruma\, Kigali\, 3774\, Rwanda
CATEGORIES:Concert
ATTACH;FMTTYPE=image/jpeg:https://thebeatsofafrica.com/wp-content/uploads/2026/03/Soundz-of-Neptune-Ministry-Rwanda.jpeg
END:VEVENT
END:VCALENDAR