BEGIN:VCALENDAR
VERSION:2.0
PRODID:-//The Beats of Africa - ECPv6.15.20//NONSGML v1.0//EN
CALSCALE:GREGORIAN
METHOD:PUBLISH
X-WR-CALNAME:The Beats of Africa
X-ORIGINAL-URL:https://thebeatsofafrica.com
X-WR-CALDESC:Events for The Beats of Africa
REFRESH-INTERVAL;VALUE=DURATION:PT1H
X-Robots-Tag:noindex
X-PUBLISHED-TTL:PT1H
BEGIN:VTIMEZONE
TZID:Europe/Madrid
BEGIN:DAYLIGHT
TZOFFSETFROM:+0100
TZOFFSETTO:+0200
TZNAME:CEST
DTSTART:20250330T010000
END:DAYLIGHT
BEGIN:STANDARD
TZOFFSETFROM:+0200
TZOFFSETTO:+0100
TZNAME:CET
DTSTART:20251026T010000
END:STANDARD
BEGIN:DAYLIGHT
TZOFFSETFROM:+0100
TZOFFSETTO:+0200
TZNAME:CEST
DTSTART:20260329T010000
END:DAYLIGHT
BEGIN:STANDARD
TZOFFSETFROM:+0200
TZOFFSETTO:+0100
TZNAME:CET
DTSTART:20261025T010000
END:STANDARD
BEGIN:DAYLIGHT
TZOFFSETFROM:+0100
TZOFFSETTO:+0200
TZNAME:CEST
DTSTART:20270328T010000
END:DAYLIGHT
BEGIN:STANDARD
TZOFFSETFROM:+0200
TZOFFSETTO:+0100
TZNAME:CET
DTSTART:20271031T010000
END:STANDARD
END:VTIMEZONE
BEGIN:VEVENT
DTSTART;TZID=Europe/Madrid:20260326T200000
DTEND;TZID=Europe/Madrid:20260326T235900
DTSTAMP:20260424T101025
CREATED:20260118T180716Z
LAST-MODIFIED:20260118T180716Z
UID:11950-1774555200-1774569540@thebeatsofafrica.com
SUMMARY:Ruger – Australia Tour SYDNEY 2026
DESCRIPTION:
URL:https://thebeatsofafrica.com/beats-event/ruger-australia-tour-sydney-2026/
LOCATION:Enmore Theatre\, 118-132 Enmore Rd\, Newtown\, NSW 2042\, Australia
CATEGORIES:Tour
ATTACH;FMTTYPE=image/jpeg:https://thebeatsofafrica.com/wp-content/uploads/2026/01/ruger-AUSTRALIA.jpg
END:VEVENT
END:VCALENDAR