BEGIN:VCALENDAR
VERSION:2.0
PRODID:-//The Beats of Africa - ECPv6.15.20//NONSGML v1.0//EN
CALSCALE:GREGORIAN
METHOD:PUBLISH
X-WR-CALNAME:The Beats of Africa
X-ORIGINAL-URL:https://thebeatsofafrica.com
X-WR-CALDESC:Events for The Beats of Africa
REFRESH-INTERVAL;VALUE=DURATION:PT1H
X-Robots-Tag:noindex
X-PUBLISHED-TTL:PT1H
BEGIN:VTIMEZONE
TZID:+01:00
END:VTIMEZONE
BEGIN:VEVENT
DTSTART;TZID=+01:00:20251206T190000
DTEND;TZID=+01:00:20251206T190000
DTSTAMP:20260424T100913
CREATED:20251114T182640Z
LAST-MODIFIED:20251114T182640Z
UID:11040-1765047600-1765047600@thebeatsofafrica.com
SUMMARY:Pulse Fiesta 2025
DESCRIPTION:
URL:https://thebeatsofafrica.com/beats-event/pulse-fiesta-2025-2/
CATEGORIES:Day Party
ATTACH;FMTTYPE=image/webp:https://thebeatsofafrica.com/wp-content/uploads/2025/11/Pulse-Fiesta-2025-.webp
END:VEVENT
END:VCALENDAR