BEGIN:VCALENDAR
VERSION:2.0
PRODID:-//The Beats of Africa - ECPv6.15.20//NONSGML v1.0//EN
CALSCALE:GREGORIAN
METHOD:PUBLISH
X-WR-CALNAME:The Beats of Africa
X-ORIGINAL-URL:https://thebeatsofafrica.com
X-WR-CALDESC:Events for The Beats of Africa
REFRESH-INTERVAL;VALUE=DURATION:PT1H
X-Robots-Tag:noindex
X-PUBLISHED-TTL:PT1H
BEGIN:VTIMEZONE
TZID:+01:00
END:VTIMEZONE
BEGIN:VEVENT
DTSTART;TZID=+01:00:20260103T160000
DTEND;TZID=+01:00:20260104T020000
DTSTAMP:20260424T113115
CREATED:20251114T182639Z
LAST-MODIFIED:20251114T182639Z
UID:11039-1767456000-1767492000@thebeatsofafrica.com
SUMMARY:Milk + Cookies Festival South Africa 2026
DESCRIPTION:
URL:https://thebeatsofafrica.com/beats-event/milk-cookies-festival-south-africa-2026-2/
LOCATION:Hollywoodbets Kenilworth\, 109 Rosmead Ave\, Kenilworth\, Cape Town\, 7700\, United States
CATEGORIES:Day Party
ATTACH;FMTTYPE=image/jpeg:https://thebeatsofafrica.com/wp-content/uploads/2025/11/Milk-Cookies-Festival-South-Africa-2026.jpg
END:VEVENT
END:VCALENDAR