BEGIN:VCALENDAR
VERSION:2.0
PRODID:-//The Beats of Africa - ECPv6.15.20//NONSGML v1.0//EN
CALSCALE:GREGORIAN
METHOD:PUBLISH
X-WR-CALNAME:The Beats of Africa
X-ORIGINAL-URL:https://thebeatsofafrica.com
X-WR-CALDESC:Events for The Beats of Africa
REFRESH-INTERVAL;VALUE=DURATION:PT1H
X-Robots-Tag:noindex
X-PUBLISHED-TTL:PT1H
BEGIN:VTIMEZONE
TZID:-08:00
END:VTIMEZONE
BEGIN:VEVENT
DTSTART;TZID=-08:00:20251205T220000
DTEND;TZID=-08:00:20251206T020000
DTSTAMP:20260424T112910
CREATED:20251214T135350Z
LAST-MODIFIED:20251214T135350Z
UID:11486-1764972000-1764986400@thebeatsofafrica.com
SUMMARY:Lagos 2 L.A. | DJ Tunez & Wizkid
DESCRIPTION:
URL:https://thebeatsofafrica.com/beats-event/lagos-2-l-a-dj-tunez-wizkid/
LOCATION:The Vermont Hollywood\, 1020 N Vermont Ave\, Los Angeles\, California\, CA 90029\, United States of America
CATEGORIES:Club Night
ATTACH;FMTTYPE=image/jpeg:https://thebeatsofafrica.com/wp-content/uploads/2025/12/Lagos-2-L.A.-DJ-Tunez-Wizkid.jpeg
END:VEVENT
END:VCALENDAR