BEGIN:VCALENDAR
VERSION:2.0
PRODID:-//The Beats of Africa - ECPv6.15.20//NONSGML v1.0//EN
CALSCALE:GREGORIAN
METHOD:PUBLISH
X-WR-CALNAME:The Beats of Africa
X-ORIGINAL-URL:https://thebeatsofafrica.com
X-WR-CALDESC:Events for The Beats of Africa
REFRESH-INTERVAL;VALUE=DURATION:PT1H
X-Robots-Tag:noindex
X-PUBLISHED-TTL:PT1H
BEGIN:VTIMEZONE
TZID:BST
END:VTIMEZONE
BEGIN:VEVENT
DTSTART;TZID=BST:20250601T190000
DTEND;TZID=BST:20250601T235900
DTSTAMP:20260424T152216
CREATED:20250603T172015Z
LAST-MODIFIED:20250603T172015Z
UID:7134-1748804400-1748822340@thebeatsofafrica.com
SUMMARY:L2P x RED CUP
DESCRIPTION:
URL:https://thebeatsofafrica.com/beats-event/l2p-x-red-cup-2/
LOCATION:Rascals HQ\, Golden Estate\, Tyrconnell Road\, Inchicore\, Dublin\, D08 HF68\, Ireland
CATEGORIES:Day Party
ATTACH;FMTTYPE=image/webp:https://thebeatsofafrica.com/wp-content/uploads/2025/06/L2P-x-Red-Cup.webp
END:VEVENT
END:VCALENDAR