BEGIN:VCALENDAR
VERSION:2.0
PRODID:-//The Beats of Africa - ECPv6.15.20//NONSGML v1.0//EN
CALSCALE:GREGORIAN
METHOD:PUBLISH
X-WR-CALNAME:The Beats of Africa
X-ORIGINAL-URL:https://thebeatsofafrica.com
X-WR-CALDESC:Events for The Beats of Africa
REFRESH-INTERVAL;VALUE=DURATION:PT1H
X-Robots-Tag:noindex
X-PUBLISHED-TTL:PT1H
BEGIN:VTIMEZONE
TZID:+01:00
END:VTIMEZONE
BEGIN:VEVENT
DTSTART;TZID=+01:00:20250604T190000
DTEND;TZID=+01:00:20250605T020000
DTSTAMP:20260424T141801
CREATED:20250603T171916Z
LAST-MODIFIED:20250603T180014Z
UID:7114-1749063600-1749088800@thebeatsofafrica.com
SUMMARY:AMAPIANO NIGHT - MIXOLIS x SUPA D x TERMINAL 4 (DANKIE SOUND) x EADN
DESCRIPTION:
URL:https://thebeatsofafrica.com/beats-event/amapiano-night-mixolis-x-supa-d-x-terminal-4-dankie-sound-x-eadn-2/
LOCATION:The Eadn London\, 24 Stephenson Street\, London\, E16 4SA\, United Kingdom
CATEGORIES:Club Night
ATTACH;FMTTYPE=image/webp:https://thebeatsofafrica.com/wp-content/uploads/2025/06/eadn-amapiano-night.webp
END:VEVENT
END:VCALENDAR