BEGIN:VCALENDAR
VERSION:2.0
PRODID:-//The Beats of Africa - ECPv6.15.20//NONSGML v1.0//EN
CALSCALE:GREGORIAN
METHOD:PUBLISH
X-ORIGINAL-URL:https://thebeatsofafrica.com
X-WR-CALDESC:Events for The Beats of Africa
REFRESH-INTERVAL;VALUE=DURATION:PT1H
X-Robots-Tag:noindex
X-PUBLISHED-TTL:PT1H
BEGIN:VTIMEZONE
TZID:+02:00
END:VTIMEZONE
BEGIN:VTIMEZONE
TZID:Europe/Madrid
BEGIN:DAYLIGHT
TZOFFSETFROM:+0100
TZOFFSETTO:+0200
TZNAME:CEST
DTSTART:20250330T010000
END:DAYLIGHT
BEGIN:STANDARD
TZOFFSETFROM:+0200
TZOFFSETTO:+0100
TZNAME:CET
DTSTART:20251026T010000
END:STANDARD
BEGIN:DAYLIGHT
TZOFFSETFROM:+0100
TZOFFSETTO:+0200
TZNAME:CEST
DTSTART:20260329T010000
END:DAYLIGHT
BEGIN:STANDARD
TZOFFSETFROM:+0200
TZOFFSETTO:+0100
TZNAME:CET
DTSTART:20261025T010000
END:STANDARD
BEGIN:DAYLIGHT
TZOFFSETFROM:+0100
TZOFFSETTO:+0200
TZNAME:CEST
DTSTART:20270328T010000
END:DAYLIGHT
BEGIN:STANDARD
TZOFFSETFROM:+0200
TZOFFSETTO:+0100
TZNAME:CET
DTSTART:20271031T010000
END:STANDARD
END:VTIMEZONE
BEGIN:VTIMEZONE
TZID:+11:00
END:VTIMEZONE
BEGIN:VTIMEZONE
TZID:Europe/London
BEGIN:DAYLIGHT
TZOFFSETFROM:+0000
TZOFFSETTO:+0100
TZNAME:BST
DTSTART:20250330T010000
END:DAYLIGHT
BEGIN:STANDARD
TZOFFSETFROM:+0100
TZOFFSETTO:+0000
TZNAME:GMT
DTSTART:20251026T010000
END:STANDARD
BEGIN:DAYLIGHT
TZOFFSETFROM:+0000
TZOFFSETTO:+0100
TZNAME:BST
DTSTART:20260329T010000
END:DAYLIGHT
BEGIN:STANDARD
TZOFFSETFROM:+0100
TZOFFSETTO:+0000
TZNAME:GMT
DTSTART:20261025T010000
END:STANDARD
BEGIN:DAYLIGHT
TZOFFSETFROM:+0000
TZOFFSETTO:+0100
TZNAME:BST
DTSTART:20270328T010000
END:DAYLIGHT
BEGIN:STANDARD
TZOFFSETFROM:+0100
TZOFFSETTO:+0000
TZNAME:GMT
DTSTART:20271031T010000
END:STANDARD
END:VTIMEZONE
BEGIN:VEVENT
DTSTART;TZID=+02:00:20260430T230000
DTEND;TZID=+02:00:20260501T060000
DTSTAMP:20260424T115126
CREATED:20260303T031141Z
LAST-MODIFIED:20260303T031141Z
UID:12897-1777590000-1777615200@thebeatsofafrica.com
SUMMARY:Shimza & CO at Pacha Ibiza
DESCRIPTION:
URL:https://thebeatsofafrica.com/beats-event/shimza-co-at-pacha-ibiza/
LOCATION:Pacha Ibiza\, Av. 8 d'Agost\, Ibiza\, 07800\, Spain
CATEGORIES:Club Night
ATTACH;FMTTYPE=image/jpeg:https://thebeatsofafrica.com/wp-content/uploads/2026/03/Shimza-CO-at-Pacha-Ibiza.jpg
END:VEVENT
BEGIN:VEVENT
DTSTART;TZID=Europe/Madrid:20260502T180000
DTEND;TZID=Europe/Madrid:20260502T235900
DTSTAMP:20260424T115126
CREATED:20260118T180635Z
LAST-MODIFIED:20260118T180635Z
UID:11938-1777744800-1777766340@thebeatsofafrica.com
SUMMARY:Fally Ipupa
DESCRIPTION:
URL:https://thebeatsofafrica.com/beats-event/fally-ipupa/
LOCATION:Stade de France\, 93216 Saint-Denis\, Paris\, 93216\, France
CATEGORIES:Concert
ATTACH;FMTTYPE=image/jpeg:https://thebeatsofafrica.com/wp-content/uploads/2026/01/fally-ipupa-2-mai.jpg
END:VEVENT
BEGIN:VEVENT
DTSTART;TZID=+11:00:20260503T150000
DTEND;TZID=+11:00:20260503T230000
DTSTAMP:20260424T115126
CREATED:20260303T030955Z
LAST-MODIFIED:20260303T030955Z
UID:12861-1777820400-1777849200@thebeatsofafrica.com
SUMMARY:Brisbane Afrobeats Festival 2026
DESCRIPTION:
URL:https://thebeatsofafrica.com/beats-event/brisbane-afrobeats-festival-2026/
LOCATION:The Brightside Brisbane\, 27 Warner St\, Fortitude Valley\, QLD 4006\, Australia
CATEGORIES:Festival
ATTACH;FMTTYPE=image/jpeg:https://thebeatsofafrica.com/wp-content/uploads/2026/03/Brisbane-Afrobeats-Festival-2026.jpg
END:VEVENT
BEGIN:VEVENT
DTSTART;TZID=+02:00:20260516T200000
DTEND;TZID=+02:00:20260517T030000
DTSTAMP:20260424T115126
CREATED:20260303T030915Z
LAST-MODIFIED:20260303T030915Z
UID:12855-1778961600-1778986800@thebeatsofafrica.com
SUMMARY:Afroton featuring TJ West
DESCRIPTION:
URL:https://thebeatsofafrica.com/beats-event/afroton-featuring-tj-west/
LOCATION:De Vooruit\, Sint-Pietersnieuwstraat 23\, Gent\, 9000\, Belgium
CATEGORIES:Festival
ATTACH;FMTTYPE=image/jpeg:https://thebeatsofafrica.com/wp-content/uploads/2026/03/Afroton-featuring-TJ-West.jpg
END:VEVENT
BEGIN:VEVENT
DTSTART;TZID=Europe/Madrid:20260522T200000
DTEND;TZID=Europe/Madrid:20260522T235900
DTSTAMP:20260424T115126
CREATED:20260118T180648Z
LAST-MODIFIED:20260118T180648Z
UID:11942-1779480000-1779494340@thebeatsofafrica.com
SUMMARY:Kulturr
DESCRIPTION:
URL:https://thebeatsofafrica.com/beats-event/kulturr/
LOCATION:La Cigale\, 120 Blvd Marguerite de Rochechouart\, Paris\, 75018\, France
CATEGORIES:Concert
ATTACH;FMTTYPE=image/jpeg:https://thebeatsofafrica.com/wp-content/uploads/2026/01/Kulturr-Paris.jpg
END:VEVENT
BEGIN:VEVENT
DTSTART;TZID=Europe/Madrid:20260524T200000
DTEND;TZID=Europe/Madrid:20260525T030000
DTSTAMP:20260424T115126
CREATED:20260118T180721Z
LAST-MODIFIED:20260118T180721Z
UID:11954-1779652800-1779678000@thebeatsofafrica.com
SUMMARY:Scorpion Kings Live
DESCRIPTION:
URL:https://thebeatsofafrica.com/beats-event/scorpion-kings-live/
LOCATION:Barking Park\, Longbridge Road\, Barking\, IG11 8TA\, United Kingdom
CATEGORIES:Concert
ATTACH;FMTTYPE=image/jpeg:https://thebeatsofafrica.com/wp-content/uploads/2026/01/Scorpion-Kings-2026.jpg
END:VEVENT
BEGIN:VEVENT
DTSTART;TZID=Europe/London:20260530T220000
DTEND;TZID=Europe/London:20260531T230000
DTSTAMP:20260424T115126
CREATED:20260126T201103Z
LAST-MODIFIED:20260207T011732Z
UID:12187-1780178400-1780268400@thebeatsofafrica.com
SUMMARY:Ice Prince Live Birmingham
DESCRIPTION:
URL:https://thebeatsofafrica.com/beats-event/ice-prince-live-birmingham/
LOCATION:CAVE BIRMINGHAM\, 30-31 Lower Tower St\, Birmingham\, B19 3NH\, United Kingdom
CATEGORIES:Concert
ATTACH;FMTTYPE=image/jpeg:https://thebeatsofafrica.com/wp-content/uploads/2026/01/Ice-Prince-Live-Birmingham.jpg
END:VEVENT
END:VCALENDAR