BEGIN:VCALENDAR
VERSION:2.0
PRODID:-//The Beats of Africa - ECPv6.15.20//NONSGML v1.0//EN
CALSCALE:GREGORIAN
METHOD:PUBLISH
X-ORIGINAL-URL:https://thebeatsofafrica.com
X-WR-CALDESC:Events for The Beats of Africa
REFRESH-INTERVAL;VALUE=DURATION:PT1H
X-Robots-Tag:noindex
X-PUBLISHED-TTL:PT1H
BEGIN:VTIMEZONE
TZID:Europe/Madrid
BEGIN:DAYLIGHT
TZOFFSETFROM:+0100
TZOFFSETTO:+0200
TZNAME:CEST
DTSTART:20240331T010000
END:DAYLIGHT
BEGIN:STANDARD
TZOFFSETFROM:+0200
TZOFFSETTO:+0100
TZNAME:CET
DTSTART:20241027T010000
END:STANDARD
BEGIN:DAYLIGHT
TZOFFSETFROM:+0100
TZOFFSETTO:+0200
TZNAME:CEST
DTSTART:20250330T010000
END:DAYLIGHT
BEGIN:STANDARD
TZOFFSETFROM:+0200
TZOFFSETTO:+0100
TZNAME:CET
DTSTART:20251026T010000
END:STANDARD
BEGIN:DAYLIGHT
TZOFFSETFROM:+0100
TZOFFSETTO:+0200
TZNAME:CEST
DTSTART:20260329T010000
END:DAYLIGHT
BEGIN:STANDARD
TZOFFSETFROM:+0200
TZOFFSETTO:+0100
TZNAME:CET
DTSTART:20261025T010000
END:STANDARD
END:VTIMEZONE
BEGIN:VTIMEZONE
TZID:BST
END:VTIMEZONE
BEGIN:VEVENT
DTSTART;TZID=Europe/Madrid:20250614T180000
DTEND;TZID=Europe/Madrid:20250615T010000
DTSTAMP:20260424T113027
CREATED:20250603T172214Z
LAST-MODIFIED:20250603T172214Z
UID:7173-1749924000-1749949200@thebeatsofafrica.com
SUMMARY:TRENDY • ANTWERP ROOFTOP OPEN AIR
DESCRIPTION:
URL:https://thebeatsofafrica.com/beats-event/trendy-antwerp-rooftop-open-air-2/
LOCATION:Plein Publiek Antwerp\, Zonnestroomstraat 2A\, Antwerpen\, Antwerp\, 2020\, Belgium
CATEGORIES:Day Party
ATTACH;FMTTYPE=image/webp:https://thebeatsofafrica.com/wp-content/uploads/2025/06/trendy-antwerp-elementor-io-optimized.webp
END:VEVENT
BEGIN:VEVENT
DTSTART;TZID=Europe/Madrid:20250614T190000
DTEND;TZID=Europe/Madrid:20250614T230000
DTSTAMP:20260424T113027
CREATED:20250603T171943Z
LAST-MODIFIED:20250603T183431Z
UID:7122-1749927600-1749942000@thebeatsofafrica.com
SUMMARY:DIAMOND PLATNUMZ LIVE IN  MANCHESTER
DESCRIPTION:
URL:https://thebeatsofafrica.com/beats-event/diamond-platnumz-live-in-manchester-2/
LOCATION:Manchester Academy\, Manchester University Students Union\, Oxford Rd\, Manchester\, M13 9PR\, United Kingdom
CATEGORIES:Tour
ATTACH;FMTTYPE=image/webp:https://thebeatsofafrica.com/wp-content/uploads/2025/06/DIAMOND-PLATNUMZ-Live-in-Manchester.webp
END:VEVENT
BEGIN:VEVENT
DTSTART;TZID=Europe/Madrid:20250614T210000
DTEND;TZID=Europe/Madrid:20250614T210000
DTSTAMP:20260424T113027
CREATED:20250602T211724Z
LAST-MODIFIED:20250603T231819Z
UID:6906-1749934800-1749934800@thebeatsofafrica.com
SUMMARY:THE ENJOYMENT TOUR CONNECTICUT
DESCRIPTION:
URL:https://thebeatsofafrica.com/beats-event/the-enjoyment-tour-connecticut/
LOCATION:Connecticut\, Connecticut\, Connecticut\, United States
CATEGORIES:Club Night
ATTACH;FMTTYPE=image/webp:https://thebeatsofafrica.com/wp-content/uploads/2025/06/theenjoymenttour3_f360d364-95eb-40a8-a87c-f6d0b4fed97a_720x.webp
END:VEVENT
BEGIN:VEVENT
DTSTART;TZID=Europe/Madrid:20250614T213000
DTEND;TZID=Europe/Madrid:20250614T213000
DTSTAMP:20260424T113027
CREATED:20250302T013253Z
LAST-MODIFIED:20250304T235806Z
UID:3312-1749936600-1749936600@thebeatsofafrica.com
SUMMARY:REMA HEIS WORLD TOUR MILAN
DESCRIPTION:
URL:https://thebeatsofafrica.com/beats-event/rema-heis-world-tour-milan/
LOCATION:Fabrique\, Via Gaudenzio Fantoli\, 9\, Milan\, 20138\, Italy
CATEGORIES:Tour
ATTACH;FMTTYPE=image/jpeg:https://thebeatsofafrica.com/wp-content/uploads/2025/03/e429a481-34a1-425a-b4d2-8bfcfe3204bf-kZm2ZC.tmp_.jpg
END:VEVENT
BEGIN:VEVENT
DTSTART;TZID=BST:20250614T220000
DTEND;TZID=BST:20250614T220000
DTSTAMP:20260424T113027
CREATED:20250602T211925Z
LAST-MODIFIED:20250603T223247Z
UID:6935-1749938400-1749938400@thebeatsofafrica.com
SUMMARY:OVMBR SOUNDS: MCR SUMMERS
DESCRIPTION:
URL:https://thebeatsofafrica.com/beats-event/ovmbr-sounds-mcr-summers-manchester/
LOCATION:Revolution Parsonage Gardens\, St Mary's Parsonage\, Manchester\, M3 2LF\, United Kingdom
CATEGORIES:Club Night
ATTACH;FMTTYPE=image/webp:https://thebeatsofafrica.com/wp-content/uploads/2025/06/ovmbr.webp
END:VEVENT
BEGIN:VEVENT
DTSTART;TZID=BST:20250615T140000
DTEND;TZID=BST:20250615T230000
DTSTAMP:20260424T113027
CREATED:20250603T172057Z
LAST-MODIFIED:20250603T172057Z
UID:7146-1749996000-1750028400@thebeatsofafrica.com
SUMMARY:OVMBR: LDN SUMMERS VOL.1
DESCRIPTION:
URL:https://thebeatsofafrica.com/beats-event/ovmbr-ldn-summers-vol-1-2/
LOCATION:The Cause at 60 Dock Road (Outside)\, 60 Dock Road\, Newham\, London\, E16 1YZ\, United Kingdom
CATEGORIES:Day Party
ATTACH;FMTTYPE=image/webp:https://thebeatsofafrica.com/wp-content/uploads/2025/06/ovmbr.webp
END:VEVENT
BEGIN:VEVENT
DTSTART;TZID=Europe/Madrid:20250615T140000
DTEND;TZID=Europe/Madrid:20250615T230000
DTSTAMP:20260424T113027
CREATED:20250603T172115Z
LAST-MODIFIED:20250603T203812Z
UID:7154-1749996000-1750028400@thebeatsofafrica.com
SUMMARY:TAYC & RUGER - TYSO FEST
DESCRIPTION:
URL:https://thebeatsofafrica.com/beats-event/tayc-ruger-tyso-fest-2/
LOCATION:RheinRiff\, Hansaallee 321\, Düsseldorf\, 40549\, Germany
CATEGORIES:Festival
ATTACH;FMTTYPE=image/webp:https://thebeatsofafrica.com/wp-content/uploads/2025/06/tyso-fest.webp
END:VEVENT
BEGIN:VEVENT
DTSTART;TZID=Europe/Madrid:20250615T170000
DTEND;TZID=Europe/Madrid:20250615T220000
DTSTAMP:20260424T113027
CREATED:20250603T171856Z
LAST-MODIFIED:20250603T171856Z
UID:7106-1750006800-1750024800@thebeatsofafrica.com
SUMMARY:AFROCROWD MUNICH OPEN AIR
DESCRIPTION:
URL:https://thebeatsofafrica.com/beats-event/afrocrowd-munich-open-air-3/
LOCATION:Bossy Munich\, Löwengrube 18\, München\, 80333\, Germany
CATEGORIES:Day Party
ATTACH;FMTTYPE=image/webp:https://thebeatsofafrica.com/wp-content/uploads/2025/06/AFROCROWD-MUNICH-OPEN-AIR.webp
END:VEVENT
BEGIN:VEVENT
DTSTART;TZID=BST:20250615T180000
DTEND;TZID=BST:20250615T220000
DTSTAMP:20260424T113027
CREATED:20250603T171940Z
LAST-MODIFIED:20250603T183304Z
UID:7120-1750010400-1750024800@thebeatsofafrica.com
SUMMARY:DIAMOND PLATNUMZ LIVE IN GLASGOW
DESCRIPTION:
URL:https://thebeatsofafrica.com/beats-event/diamond-platnumz-live-in-glasgow-2/
LOCATION:SWG3 Glasgow\, 100 Eastvale Place\, Glasgow\, G3 8QG\, United Kingdom
CATEGORIES:Tour
ATTACH;FMTTYPE=image/webp:https://thebeatsofafrica.com/wp-content/uploads/2025/06/Diamond-Platinumz-Live-in-Glasgow.webp
END:VEVENT
BEGIN:VEVENT
DTSTART;TZID=Europe/Madrid:20250615T180000
DTEND;TZID=Europe/Madrid:20250615T230000
DTSTAMP:20260424T113027
CREATED:20250603T171826Z
LAST-MODIFIED:20250603T174601Z
UID:7096-1750010400-1750028400@thebeatsofafrica.com
SUMMARY:AFROBRUNCH ZARAGOZA EDITION (SPAIN TOUR)
DESCRIPTION:
URL:https://thebeatsofafrica.com/beats-event/afrobrunch-zaragoza-edition-spain-tour-2/
LOCATION:Supernova Club\, Avenida José Atarés 7\, Zaragoza\, 50018\, Spain
CATEGORIES:Day Party
ATTACH;FMTTYPE=image/webp:https://thebeatsofafrica.com/wp-content/uploads/2025/06/afrobrunch-zaragoza.webp
END:VEVENT
BEGIN:VEVENT
DTSTART;TZID=Europe/Madrid:20250618T193000
DTEND;TZID=Europe/Madrid:20250618T233000
DTSTAMP:20260424T113027
CREATED:20250302T013254Z
LAST-MODIFIED:20250603T203410Z
UID:3313-1750275000-1750289400@thebeatsofafrica.com
SUMMARY:REMA HEIS WORLD TOUR COPENHAGEN
DESCRIPTION:
URL:https://thebeatsofafrica.com/beats-event/rema-heis-world-tour-copenhagen/
LOCATION:TAP 1\, Raffinaderivej 10\, Copenhagen\, 2300\, Denmark
CATEGORIES:Tour
ATTACH;FMTTYPE=image/jpeg:https://thebeatsofafrica.com/wp-content/uploads/2025/03/BB_BANNER_COPENHAGEN-LcGHAm.tmp_.jpg
END:VEVENT
BEGIN:VEVENT
DTSTART;TZID=Europe/Madrid:20250620T190000
DTEND;TZID=Europe/Madrid:20250620T230000
DTSTAMP:20260424T113027
CREATED:20250302T013255Z
LAST-MODIFIED:20250304T235742Z
UID:3315-1750446000-1750460400@thebeatsofafrica.com
SUMMARY:REMA HEIS WORLD TOUR AMSTERDAM
DESCRIPTION:
URL:https://thebeatsofafrica.com/beats-event/rema-heis-world-tour-amsterdam/
LOCATION:AFAS Live\, ArenA Boulevard 590\, Amsterdam\, 1101 DS\, Netherlands
CATEGORIES:Tour
ATTACH;FMTTYPE=image/jpeg:https://thebeatsofafrica.com/wp-content/uploads/2025/03/BB_BANNER_AMSTERDAM-xOcjoE.tmp_.jpg
END:VEVENT
BEGIN:VEVENT
DTSTART;TZID=Europe/Madrid:20250620T200000
DTEND;TZID=Europe/Madrid:20250620T200000
DTSTAMP:20260424T113027
CREATED:20250602T185619Z
LAST-MODIFIED:20250603T183751Z
UID:6780-1750449600-1750449600@thebeatsofafrica.com
SUMMARY:HOT 97 SUMMER JAM 2025
DESCRIPTION:
URL:https://thebeatsofafrica.com/beats-event/hot-97-summer-jam-2025/
LOCATION:Prudential Center\, 25 Lafayette St\, Newark\, NJ 07102\, United States
CATEGORIES:Festival
ATTACH;FMTTYPE=image/webp:https://thebeatsofafrica.com/wp-content/uploads/2025/06/hot97-summerjam.webp
END:VEVENT
BEGIN:VEVENT
DTSTART;TZID=Europe/Madrid:20250620T210000
DTEND;TZID=Europe/Madrid:20250620T210000
DTSTAMP:20260424T113027
CREATED:20250602T211724Z
LAST-MODIFIED:20250603T233952Z
UID:6907-1750453200-1750453200@thebeatsofafrica.com
SUMMARY:THE ENJOYMENT TOUR CHICAGO
DESCRIPTION:
URL:https://thebeatsofafrica.com/beats-event/the-enjoyment-tour-chicago/
LOCATION:Chicago\, Chicago\, Illinois\, United States
CATEGORIES:Club Night
ATTACH;FMTTYPE=image/webp:https://thebeatsofafrica.com/wp-content/uploads/2025/06/theenjoymenttour3_f360d364-95eb-40a8-a87c-f6d0b4fed97a_720x.webp
END:VEVENT
BEGIN:VEVENT
DTSTART;TZID=Europe/Madrid:20250620T220000
DTEND;TZID=Europe/Madrid:20250620T220000
DTSTAMP:20260424T113027
CREATED:20250602T211925Z
LAST-MODIFIED:20250603T223649Z
UID:6933-1750456800-1750456800@thebeatsofafrica.com
SUMMARY:OVMBR: PARIS SUMMERS
DESCRIPTION:
URL:https://thebeatsofafrica.com/beats-event/ovmbr-paris-summers-club-night/
LOCATION:211\, 211 Av. Jean Jaurès\, Paris\, 75019\, France
CATEGORIES:Club Night
ATTACH;FMTTYPE=image/webp:https://thebeatsofafrica.com/wp-content/uploads/2025/06/ovmbr.webp
END:VEVENT
BEGIN:VEVENT
DTSTART;TZID=Europe/Madrid:20250621T160000
DTEND;TZID=Europe/Madrid:20250621T230000
DTSTAMP:20260424T113027
CREATED:20250603T172040Z
LAST-MODIFIED:20250603T184541Z
UID:7140-1750521600-1750546800@thebeatsofafrica.com
SUMMARY:NTB SOUNDSYSTEM PRESENTS: FÊTE DE LA MUSIQUE
DESCRIPTION:
URL:https://thebeatsofafrica.com/beats-event/ntb-soundsystem-presents-fete-de-la-musique-2/
LOCATION:Place Joachim-du-Bellay\, Place Joachim-du-Bellay\, Paris\, 75001\, France
CATEGORIES:Day Party
ATTACH;FMTTYPE=image/webp:https://thebeatsofafrica.com/wp-content/uploads/2025/06/feTE-DE-LA-MUSIQUE.webp
END:VEVENT
BEGIN:VEVENT
DTSTART;TZID=Europe/Madrid:20250621T163000
DTEND;TZID=Europe/Madrid:20250621T230000
DTSTAMP:20260424T113027
CREATED:20250603T171824Z
LAST-MODIFIED:20250603T171824Z
UID:7095-1750523400-1750546800@thebeatsofafrica.com
SUMMARY:AFROBRUNCH x MUSA KEYS x YOUNG JONN
DESCRIPTION:
URL:https://thebeatsofafrica.com/beats-event/afrobrunch-x-musa-keys-x-young-jonn-2/
LOCATION:Go Beach Club\, Carrer Port Esportiu\, 14P\, Barcelona\, 8930\, Spain
CATEGORIES:Day Party
ATTACH;FMTTYPE=image/webp:https://thebeatsofafrica.com/wp-content/uploads/2025/06/afrobrunch-musa-keys.webp
END:VEVENT
BEGIN:VEVENT
DTSTART;TZID=Europe/Madrid:20250621T170000
DTEND;TZID=Europe/Madrid:20250621T220000
DTSTAMP:20260424T113027
CREATED:20250603T171844Z
LAST-MODIFIED:20250603T171844Z
UID:7103-1750525200-1750543200@thebeatsofafrica.com
SUMMARY:AFROCROWD FRANKFURT OPEN AIR #2
DESCRIPTION:
URL:https://thebeatsofafrica.com/beats-event/afrocrowd-frankfurt-open-air-2-2/
LOCATION:25hours Hotel Frankfurt The Trip\, Niddastraße 58\, Frankfurt am Main\, 60329\, Germany
CATEGORIES:Day Party
ATTACH;FMTTYPE=image/webp:https://thebeatsofafrica.com/wp-content/uploads/2025/06/AFROCROWD-FRANKFURT-OPEN-AIR-2.webp
END:VEVENT
BEGIN:VEVENT
DTSTART;TZID=Europe/Madrid:20250621T210000
DTEND;TZID=Europe/Madrid:20250621T210000
DTSTAMP:20260424T113027
CREATED:20250602T211738Z
LAST-MODIFIED:20250603T234923Z
UID:6908-1750539600-1750539600@thebeatsofafrica.com
SUMMARY:THE ENJOYMENT TOUR DETROIT
DESCRIPTION:
URL:https://thebeatsofafrica.com/beats-event/the-enjoyment-tour-detroit/
LOCATION:Detroit\, Detroit\, Michigan\, United States
CATEGORIES:Club Night
ATTACH;FMTTYPE=image/webp:https://thebeatsofafrica.com/wp-content/uploads/2025/06/theenjoymenttour3_f360d364-95eb-40a8-a87c-f6d0b4fed97a_720x.webp
END:VEVENT
BEGIN:VEVENT
DTSTART;TZID=Europe/Madrid:20250621T223000
DTEND;TZID=Europe/Madrid:20250621T223000
DTSTAMP:20260424T113027
CREATED:20250602T211810Z
LAST-MODIFIED:20250603T224417Z
UID:6921-1750545000-1750545000@thebeatsofafrica.com
SUMMARY:YEMI ALADE - MAWAZINE RYTHMES DU MONDE
DESCRIPTION:
URL:https://thebeatsofafrica.com/beats-event/yemi-alade-mawazine-afrobeats-rabat/
LOCATION:Bouregreg Stage\, 25H8+V9V\, Rabat\, 10000\, Morocco
CATEGORIES:Festival
ATTACH;FMTTYPE=image/webp:https://thebeatsofafrica.com/wp-content/uploads/2025/06/YEMI-ALADE-Mawazine-Rythmes-du-Monde.webp
END:VEVENT
BEGIN:VEVENT
DTSTART;TZID=Europe/Madrid:20250621T230000
DTEND;TZID=Europe/Madrid:20250622T053000
DTSTAMP:20260424T113027
CREATED:20250603T172029Z
LAST-MODIFIED:20250603T172029Z
UID:7138-1750546800-1750570200@thebeatsofafrica.com
SUMMARY:N’JOY IN PARIS X 21 JUIN X FÊTE DE LA MUSIQUE AU CLUB HAUSSMANN
DESCRIPTION:
URL:https://thebeatsofafrica.com/beats-event/njoy-in-paris-x-21-juin-x-fete-de-la-musique-au-club-haussmann-2/
CATEGORIES:Club Night
ATTACH;FMTTYPE=image/webp:https://thebeatsofafrica.com/wp-content/uploads/2025/06/njoy-paris.webp
END:VEVENT
BEGIN:VEVENT
DTSTART;TZID=Europe/Madrid:20250621T230000
DTEND;TZID=Europe/Madrid:20250622T060000
DTSTAMP:20260424T113027
CREATED:20250603T172114Z
LAST-MODIFIED:20250603T172114Z
UID:7153-1750546800-1750572000@thebeatsofafrica.com
SUMMARY:SHALLIPOPI LIVE IN MILAN
DESCRIPTION:
URL:https://thebeatsofafrica.com/beats-event/shallipopi-live-in-milan-2/
LOCATION:Main Club – Club 44\, Via Carlo Boncompagni\, 44\, Milan\, 20139\, Italy
CATEGORIES:Club Night
ATTACH;FMTTYPE=image/webp:https://thebeatsofafrica.com/wp-content/uploads/2025/06/shallipopi-milan.webp
END:VEVENT
BEGIN:VEVENT
DTSTART;TZID=Europe/Madrid:20250622T140000
DTEND;TZID=Europe/Madrid:20250622T230000
DTSTAMP:20260424T113027
CREATED:20250603T172041Z
LAST-MODIFIED:20250603T202744Z
UID:7141-1750600800-1750633200@thebeatsofafrica.com
SUMMARY:OBI'S HOUSE - JUNE EDITION
DESCRIPTION:
URL:https://thebeatsofafrica.com/beats-event/obis-house-june-edition-2/
LOCATION:The Cause at 60 Dock Road (Outside)\, 60 Dock Road\, Newham\, London\, E16 1YZ\, United Kingdom
CATEGORIES:Day Party
ATTACH;FMTTYPE=image/webp:https://thebeatsofafrica.com/wp-content/uploads/2025/06/obis-house-london.webp
END:VEVENT
BEGIN:VEVENT
DTSTART;TZID=Europe/Madrid:20250622T190000
DTEND;TZID=Europe/Madrid:20250622T230000
DTSTAMP:20260424T113027
CREATED:20250302T013257Z
LAST-MODIFIED:20250304T235733Z
UID:3317-1750618800-1750633200@thebeatsofafrica.com
SUMMARY:REMA HEIS WORLD TOUR BRUSSELS
DESCRIPTION:
URL:https://thebeatsofafrica.com/beats-event/rema-heis-world-tour-brussels/
LOCATION:AB Main hall\, Anspachlaan 110\, Brussels\, 1000\, Belgium
CATEGORIES:Tour
ATTACH;FMTTYPE=image/jpeg:https://thebeatsofafrica.com/wp-content/uploads/2025/03/BB_BANNER_BRUSSEL-cAiEtw.tmp_.jpg
END:VEVENT
BEGIN:VEVENT
DTSTART;TZID=Europe/Madrid:20250622T190000
DTEND;TZID=Europe/Madrid:20250622T230000
DTSTAMP:20260424T113027
CREATED:20250603T172225Z
LAST-MODIFIED:20250603T205335Z
UID:7175-1750618800-1750633200@thebeatsofafrica.com
SUMMARY:WIZKID WITH COLOR OF NOIZE ORCHESTRA
DESCRIPTION:
URL:https://thebeatsofafrica.com/beats-event/wizkid-with-color-of-noize-orchestra-2/
LOCATION:Hollywood Bowl\, 2301 N Highland Ave\, Los Angeles\, CA\, 90068\, United States of America
CATEGORIES:Festival
ATTACH;FMTTYPE=image/webp:https://thebeatsofafrica.com/wp-content/uploads/2025/06/Wizkid-with-Color-of-Noize-Orchestra-elementor-io-optimized.webp
END:VEVENT
BEGIN:VEVENT
DTSTART;TZID=Europe/Madrid:20250622T223000
DTEND;TZID=Europe/Madrid:20250622T233000
DTSTAMP:20260424T113027
CREATED:20250602T211826Z
LAST-MODIFIED:20250603T215032Z
UID:6925-1750631400-1750635000@thebeatsofafrica.com
SUMMARY:CHEIKH LÔ - MAWAZINE RYTHMES DU MONDE
DESCRIPTION:
URL:https://thebeatsofafrica.com/beats-event/cheikh-lo-mawazine-festival-2025/
LOCATION:Bouregreg Stage\, 25H8+V9V\, Rabat\, 10000\, Morocco
CATEGORIES:Festival
ATTACH;FMTTYPE=image/webp:https://thebeatsofafrica.com/wp-content/uploads/2025/06/CHEIKH-LO-Mawazine-Rythmes-du-Monde-.webp
END:VEVENT
BEGIN:VEVENT
DTSTART;TZID=Europe/Madrid:20250623T223000
DTEND;TZID=Europe/Madrid:20250623T223000
DTSTAMP:20260424T113027
CREATED:20250602T211827Z
LAST-MODIFIED:20250603T220105Z
UID:6926-1750717800-1750717800@thebeatsofafrica.com
SUMMARY:ETUK UBONG - MAWAZINE RYTHMES DU MONDE
DESCRIPTION:
URL:https://thebeatsofafrica.com/beats-event/etuk-ubong-mawazine-jazz-rabat/
LOCATION:Bouregreg Stage\, 25H8+V9V\, Rabat\, 10000\, Morocco
CATEGORIES:Festival
ATTACH;FMTTYPE=image/webp:https://thebeatsofafrica.com/wp-content/uploads/2025/06/ETUK-UBONG-Mawazine-Rythmes-du-Monde-.webp
END:VEVENT
BEGIN:VEVENT
DTSTART;TZID=Europe/Madrid:20250625T223000
DTEND;TZID=Europe/Madrid:20250625T233000
DTSTAMP:20260424T113027
CREATED:20250602T211824Z
LAST-MODIFIED:20250603T220814Z
UID:6924-1750890600-1750894200@thebeatsofafrica.com
SUMMARY:ANS T CRAZY - MAWAZINE RYTHMES DU MONDE
DESCRIPTION:
URL:https://thebeatsofafrica.com/beats-event/ans-t-crazy-mawazine-afrobeats-rabat/
LOCATION:Bouregreg Stage\, 25H8+V9V\, Rabat\, 10000\, Morocco
CATEGORIES:Festival
ATTACH;FMTTYPE=image/webp:https://thebeatsofafrica.com/wp-content/uploads/2025/06/ANS-T-CRAZY-Mawazine-Rythmes-du-Monde.webp
END:VEVENT
BEGIN:VEVENT
DTSTART;TZID=Europe/Madrid:20250626T213000
DTEND;TZID=Europe/Madrid:20250626T235900
DTSTAMP:20260424T113027
CREATED:20250603T172026Z
LAST-MODIFIED:20250603T184209Z
UID:7136-1750973400-1750982340@thebeatsofafrica.com
SUMMARY:LOJAY & WIZKID - MAWAZINE RYTHMES DU MONDE
DESCRIPTION:
URL:https://thebeatsofafrica.com/beats-event/lojay-wizkid-mawazine-rythmes-du-monde-2/
LOCATION:OLM Souissi\, Avenue Imam Malik\, Rabat\, 10170\, Morocco
CATEGORIES:Festival
ATTACH;FMTTYPE=image/webp:https://thebeatsofafrica.com/wp-content/uploads/2025/06/LOJAY-WIZKID-maroc.webp
END:VEVENT
BEGIN:VEVENT
DTSTART;TZID=Europe/Madrid:20250627T210000
DTEND;TZID=Europe/Madrid:20250627T210000
DTSTAMP:20260424T113027
CREATED:20250602T211738Z
LAST-MODIFIED:20250603T232453Z
UID:6909-1751058000-1751058000@thebeatsofafrica.com
SUMMARY:THE ENJOYMENT TOUR DMV
DESCRIPTION:
URL:https://thebeatsofafrica.com/beats-event/the-enjoyment-tour-dmv/
LOCATION:Washington Metropolitan Area\, Washington Metropolitan Area\, Washington\, United States
CATEGORIES:Club Night
ATTACH;FMTTYPE=image/webp:https://thebeatsofafrica.com/wp-content/uploads/2025/06/theenjoymenttour3_f360d364-95eb-40a8-a87c-f6d0b4fed97a_720x.webp
END:VEVENT
END:VCALENDAR