BEGIN:VCALENDAR
VERSION:2.0
PRODID:-//The Beats of Africa - ECPv6.15.17//NONSGML v1.0//EN
CALSCALE:GREGORIAN
METHOD:PUBLISH
X-WR-CALNAME:The Beats of Africa
X-ORIGINAL-URL:https://thebeatsofafrica.com
X-WR-CALDESC:Events for The Beats of Africa
REFRESH-INTERVAL;VALUE=DURATION:PT1H
X-Robots-Tag:noindex
X-PUBLISHED-TTL:PT1H
BEGIN:VTIMEZONE
TZID:-05:00
END:VTIMEZONE
BEGIN:VTIMEZONE
TZID:+02:00
END:VTIMEZONE
BEGIN:VTIMEZONE
TZID:GMT
END:VTIMEZONE
BEGIN:VTIMEZONE
TZID:+01:00
END:VTIMEZONE
BEGIN:VTIMEZONE
TZID:Europe/London
BEGIN:DAYLIGHT
TZOFFSETFROM:+0000
TZOFFSETTO:+0100
TZNAME:BST
DTSTART:20250330T010000
END:DAYLIGHT
BEGIN:STANDARD
TZOFFSETFROM:+0100
TZOFFSETTO:+0000
TZNAME:GMT
DTSTART:20251026T010000
END:STANDARD
BEGIN:DAYLIGHT
TZOFFSETFROM:+0000
TZOFFSETTO:+0100
TZNAME:BST
DTSTART:20260329T010000
END:DAYLIGHT
BEGIN:STANDARD
TZOFFSETFROM:+0100
TZOFFSETTO:+0000
TZNAME:GMT
DTSTART:20261025T010000
END:STANDARD
BEGIN:DAYLIGHT
TZOFFSETFROM:+0000
TZOFFSETTO:+0100
TZNAME:BST
DTSTART:20270328T010000
END:DAYLIGHT
BEGIN:STANDARD
TZOFFSETFROM:+0100
TZOFFSETTO:+0000
TZNAME:GMT
DTSTART:20271031T010000
END:STANDARD
END:VTIMEZONE
BEGIN:VTIMEZONE
TZID:Europe/Lisbon
BEGIN:DAYLIGHT
TZOFFSETFROM:+0000
TZOFFSETTO:+0100
TZNAME:WEST
DTSTART:20250330T010000
END:DAYLIGHT
BEGIN:STANDARD
TZOFFSETFROM:+0100
TZOFFSETTO:+0000
TZNAME:WET
DTSTART:20251026T010000
END:STANDARD
BEGIN:DAYLIGHT
TZOFFSETFROM:+0000
TZOFFSETTO:+0100
TZNAME:WEST
DTSTART:20260329T010000
END:DAYLIGHT
BEGIN:STANDARD
TZOFFSETFROM:+0100
TZOFFSETTO:+0000
TZNAME:WET
DTSTART:20261025T010000
END:STANDARD
BEGIN:DAYLIGHT
TZOFFSETFROM:+0000
TZOFFSETTO:+0100
TZNAME:WEST
DTSTART:20270328T010000
END:DAYLIGHT
BEGIN:STANDARD
TZOFFSETFROM:+0100
TZOFFSETTO:+0000
TZNAME:WET
DTSTART:20271031T010000
END:STANDARD
END:VTIMEZONE
BEGIN:VTIMEZONE
TZID:Europe/Madrid
BEGIN:DAYLIGHT
TZOFFSETFROM:+0100
TZOFFSETTO:+0200
TZNAME:CEST
DTSTART:20250330T010000
END:DAYLIGHT
BEGIN:STANDARD
TZOFFSETFROM:+0200
TZOFFSETTO:+0100
TZNAME:CET
DTSTART:20251026T010000
END:STANDARD
BEGIN:DAYLIGHT
TZOFFSETFROM:+0100
TZOFFSETTO:+0200
TZNAME:CEST
DTSTART:20260329T010000
END:DAYLIGHT
BEGIN:STANDARD
TZOFFSETFROM:+0200
TZOFFSETTO:+0100
TZNAME:CET
DTSTART:20261025T010000
END:STANDARD
BEGIN:DAYLIGHT
TZOFFSETFROM:+0100
TZOFFSETTO:+0200
TZNAME:CEST
DTSTART:20270328T010000
END:DAYLIGHT
BEGIN:STANDARD
TZOFFSETFROM:+0200
TZOFFSETTO:+0100
TZNAME:CET
DTSTART:20271031T010000
END:STANDARD
END:VTIMEZONE
BEGIN:VTIMEZONE
TZID:Africa/Lagos
BEGIN:STANDARD
TZOFFSETFROM:+0100
TZOFFSETTO:+0100
TZNAME:WAT
DTSTART:20250101T000000
END:STANDARD
END:VTIMEZONE
BEGIN:VEVENT
DTSTART;TZID=-05:00:20260308T110000
DTEND;TZID=-05:00:20260308T190000
DTSTAMP:20260303T053835
CREATED:20260303T031056Z
LAST-MODIFIED:20260303T031056Z
UID:12881-1772967600-1772996400@thebeatsofafrica.com
SUMMARY:Ghana vs Everybody Day Party
DESCRIPTION:
URL:https://thebeatsofafrica.com/beats-event/ghana-vs-everybody-day-party/
LOCATION:Zebbie’s Garden\, 2100 M St NW\, Washington DC\, 20037\, United States
CATEGORIES:Day Party
ATTACH;FMTTYPE=image/avif:https://thebeatsofafrica.com/wp-content/uploads/2026/03/Ghana-Vs-Everybody-Day-party-DMV-.avif
END:VEVENT
BEGIN:VEVENT
DTSTART;TZID=+02:00:20260307T220000
DTEND;TZID=+02:00:20260308T050000
DTSTAMP:20260303T053835
CREATED:20260303T031043Z
LAST-MODIFIED:20260303T031043Z
UID:12878-1772920800-1772946000@thebeatsofafrica.com
SUMMARY:Ghana Independence with R2Bees
DESCRIPTION:
URL:https://thebeatsofafrica.com/beats-event/ghana-independence-with-r2bees/
LOCATION:IJland\, Amsterdam-Noord\, Amsterdam\, Amsterdam\, 1033 SG\, Netherlands
CATEGORIES:Concert
ATTACH;FMTTYPE=image/jpeg:https://thebeatsofafrica.com/wp-content/uploads/2026/03/Ghana-Independence-with-R2Bees.jpg
END:VEVENT
BEGIN:VEVENT
DTSTART;TZID=GMT:20260307T220000
DTEND;TZID=GMT:20260308T030000
DTSTAMP:20260303T053835
CREATED:20260303T030912Z
LAST-MODIFIED:20260303T030912Z
UID:12853-1772920800-1772938800@thebeatsofafrica.com
SUMMARY:Accra to Houston 2.0
DESCRIPTION:
URL:https://thebeatsofafrica.com/beats-event/accra-to-houston-2-0/
CATEGORIES:Club Night
ATTACH;FMTTYPE=image/avif:https://thebeatsofafrica.com/wp-content/uploads/2026/03/Accra-to-Houston-2.0.avif
END:VEVENT
BEGIN:VEVENT
DTSTART;TZID=-05:00:20260307T210000
DTEND;TZID=-05:00:20260308T030000
DTSTAMP:20260303T053835
CREATED:20260303T031031Z
LAST-MODIFIED:20260303T031031Z
UID:12875-1772917200-1772938800@thebeatsofafrica.com
SUMMARY:Ghana @69
DESCRIPTION:
URL:https://thebeatsofafrica.com/beats-event/ghana-69/
LOCATION:Karma Music Live\, 1024 Vermont Ave NW\, Washington DC\, 20005\, United States
CATEGORIES:Club Night
ATTACH;FMTTYPE=image/webp:https://thebeatsofafrica.com/wp-content/uploads/2026/03/Ghana-@69-Hosted-By-Kwesi-Arthur.webp
END:VEVENT
BEGIN:VEVENT
DTSTART;TZID=GMT:20260307T210000
DTEND;TZID=GMT:20260308T020000
DTSTAMP:20260303T053835
CREATED:20260303T031131Z
LAST-MODIFIED:20260303T031131Z
UID:12895-1772917200-1772935200@thebeatsofafrica.com
SUMMARY:Party for no Reason w/DJames - Dallas
DESCRIPTION:
URL:https://thebeatsofafrica.com/beats-event/party-for-no-reason-w-djames-dallas/
LOCATION:The Icon Restaurant Dallas\, 720 E Campbell Rd #430\, Richardson\, TX 75081\, United States
CATEGORIES:Club Night
ATTACH;FMTTYPE=image/jpeg:https://thebeatsofafrica.com/wp-content/uploads/2026/03/Party-for-no-Reason-wDJames-Dallas.jpg
END:VEVENT
BEGIN:VEVENT
DTSTART;TZID=GMT:20260307T190000
DTEND;TZID=GMT:20260308T020000
DTSTAMP:20260303T053835
CREATED:20260303T031040Z
LAST-MODIFIED:20260303T031040Z
UID:12876-1772910000-1772935200@thebeatsofafrica.com
SUMMARY:Ghana Groove - Kwakye Girls Presents
DESCRIPTION:
URL:https://thebeatsofafrica.com/beats-event/ghana-groove-kwakye-girls-presents/
LOCATION:Pow Brixton\, 467-469 Brixton Rd\, London\, SW9 8HH\, United Kingdom
CATEGORIES:Club Night
ATTACH;FMTTYPE=image/jpeg:https://thebeatsofafrica.com/wp-content/uploads/2026/03/Ghana-Groove-Kwakye-Girls-Presents.jpg
END:VEVENT
BEGIN:VEVENT
DTSTART;TZID=GMT:20260307T150000
DTEND;TZID=GMT:20260307T210000
DTSTAMP:20260303T053835
CREATED:20260303T031140Z
LAST-MODIFIED:20260303T031140Z
UID:12896-1772895600-1772917200@thebeatsofafrica.com
SUMMARY:Press Play: Jersey Party
DESCRIPTION:
URL:https://thebeatsofafrica.com/beats-event/press-play-jersey-party/
LOCATION:Houston\, Houston\, Texas\, United States
CATEGORIES:Day Party
ATTACH;FMTTYPE=image/avif:https://thebeatsofafrica.com/wp-content/uploads/2026/03/The-Jersey-Party.avif
END:VEVENT
BEGIN:VEVENT
DTSTART;TZID=-05:00:20260306T220000
DTEND;TZID=-05:00:20260307T040000
DTSTAMP:20260303T053835
CREATED:20260303T031042Z
LAST-MODIFIED:20260303T031042Z
UID:12877-1772834400-1772856000@thebeatsofafrica.com
SUMMARY:Ghana Independence Brooklyn - Juls Live
DESCRIPTION:
URL:https://thebeatsofafrica.com/beats-event/ghana-independence-brooklyn-juls-live/
LOCATION:Brooklyn Monarch\, 23 Meadow St\, Brooklyn NY\, 11206\, United States
CATEGORIES:Club Night
ATTACH;FMTTYPE=image/avif:https://thebeatsofafrica.com/wp-content/uploads/2026/03/Ginja-ft.-Juls-Ethan-Tomas-.avif
END:VEVENT
BEGIN:VEVENT
DTSTART;TZID=GMT:20260306T220000
DTEND;TZID=GMT:20260307T040000
DTSTAMP:20260303T053835
CREATED:20260303T030958Z
LAST-MODIFIED:20260303T030958Z
UID:12863-1772834400-1772856000@thebeatsofafrica.com
SUMMARY:CIZA Live at 77
DESCRIPTION:
URL:https://thebeatsofafrica.com/beats-event/ciza-live-at-77/
LOCATION:77 London\, 77 Charterhouse St\, London\, EC1M 6HJ\, United Kingdom
CATEGORIES:Concert
ATTACH;FMTTYPE=image/jpeg:https://thebeatsofafrica.com/wp-content/uploads/2026/03/CIZA-Live-at-77.jpg
END:VEVENT
BEGIN:VEVENT
DTSTART;TZID=-05:00:20260306T220000
DTEND;TZID=-05:00:20260307T030000
DTSTAMP:20260303T053835
CREATED:20260303T031044Z
LAST-MODIFIED:20260303T031044Z
UID:12879-1772834400-1772852400@thebeatsofafrica.com
SUMMARY:Ghana Independence: Kente Ball
DESCRIPTION:
URL:https://thebeatsofafrica.com/beats-event/ghana-independence-kente-ball/
LOCATION:Citizens & Culture\, 8661 Colesville Rd\, Silver Spring MD\, 20910\, United States
CATEGORIES:Gala
ATTACH;FMTTYPE=image/jpeg:https://thebeatsofafrica.com/wp-content/uploads/2026/03/Ghana-Independence-Kente-Ball.jpg
END:VEVENT
BEGIN:VEVENT
DTSTART;TZID=GMT:20260306T220000
DTEND;TZID=GMT:20260307T030000
DTSTAMP:20260303T053835
CREATED:20260303T030900Z
LAST-MODIFIED:20260303T030900Z
UID:12848-1772834400-1772852400@thebeatsofafrica.com
SUMMARY:+233 Link Up Leicester
DESCRIPTION:
URL:https://thebeatsofafrica.com/beats-event/233-link-up-leicester/
LOCATION:Club Republic\, Gravel St\, Leicester\, LE1 3AG\, United Kingdom
CATEGORIES:Club Night
ATTACH;FMTTYPE=image/jpeg:https://thebeatsofafrica.com/wp-content/uploads/2026/03/233.jpg
END:VEVENT
BEGIN:VEVENT
DTSTART;TZID=GMT:20260306T213000
DTEND;TZID=GMT:20260307T030000
DTSTAMP:20260303T053835
CREATED:20260303T031155Z
LAST-MODIFIED:20260303T031155Z
UID:12901-1772832600-1772852400@thebeatsofafrica.com
SUMMARY:The HighLife Party Houston
DESCRIPTION:
URL:https://thebeatsofafrica.com/beats-event/the-highlife-party-houston/
LOCATION:NOTO Houston\, 2207 Preston St\, Houston TX\, 77003\, United States
CATEGORIES:Club Night
ATTACH;FMTTYPE=image/avif:https://thebeatsofafrica.com/wp-content/uploads/2026/03/The-HighLife-Party-Houston.avif
END:VEVENT
BEGIN:VEVENT
DTSTART;TZID=-05:00:20260306T210000
DTEND;TZID=-05:00:20260307T040000
DTSTAMP:20260303T053835
CREATED:20260303T031159Z
LAST-MODIFIED:20260303T031159Z
UID:12904-1772830800-1772856000@thebeatsofafrica.com
SUMMARY:Welcome to the Rave - DC
DESCRIPTION:
URL:https://thebeatsofafrica.com/beats-event/welcome-to-the-rave-dc/
LOCATION:Ai Warehouse\, 530 Penn St NE\, Washington\, DC\, 20002\, United States
CATEGORIES:Club Night
ATTACH;FMTTYPE=image/jpeg:https://thebeatsofafrica.com/wp-content/uploads/2026/03/Welcome-to-the-Rave-DC.jpg
END:VEVENT
BEGIN:VEVENT
DTSTART;TZID=GMT:20260306T210000
DTEND;TZID=GMT:20260307T040000
DTSTAMP:20260303T053835
CREATED:20260303T030910Z
LAST-MODIFIED:20260303T030910Z
UID:12852-1772830800-1772856000@thebeatsofafrica.com
SUMMARY:A Night in Accra - Houston Edition
DESCRIPTION:
URL:https://thebeatsofafrica.com/beats-event/a-night-in-accra-houston-edition/
LOCATION:Kapri Ultra Lounge\, 5718 Fairdale Ln\, Houston TX\, 77057\, United States
CATEGORIES:Club Night
ATTACH;FMTTYPE=image/avif:https://thebeatsofafrica.com/wp-content/uploads/2026/03/A-Night-in-Accra-Fri-March-6th-at-Kapri-Lounge-Houston-.avif
END:VEVENT
BEGIN:VEVENT
DTSTART;TZID=+01:00:20260306T200000
DTEND;TZID=+01:00:20260307T030000
DTSTAMP:20260303T053835
CREATED:20260303T030941Z
LAST-MODIFIED:20260303T030941Z
UID:12856-1772827200-1772852400@thebeatsofafrica.com
SUMMARY:Amapiano District Lagos
DESCRIPTION:
URL:https://thebeatsofafrica.com/beats-event/amapiano-district-lagos/
LOCATION:Hard Rock Cafe Landmark Village\, Water Corporation Road\, Oniru\, VI.\, Victoria Island\, Lagos\, Nigeria
CATEGORIES:Club Night
ATTACH;FMTTYPE=image/jpeg:https://thebeatsofafrica.com/wp-content/uploads/2026/03/Amapiano-District.jpg
END:VEVENT
BEGIN:VEVENT
DTSTART;TZID=+02:00:20260306T190000
DTEND;TZID=+02:00:20260307T020000
DTSTAMP:20260303T053835
CREATED:20260303T031146Z
LAST-MODIFIED:20260303T031146Z
UID:12900-1772823600-1772848800@thebeatsofafrica.com
SUMMARY:The Black Star Experience - France Edition
DESCRIPTION:
URL:https://thebeatsofafrica.com/beats-event/the-black-star-experience-france-edition/
LOCATION:Domont Event Center\, 12 Rue De Paris\, Paris\, 95330\, France
CATEGORIES:Concert
ATTACH;FMTTYPE=image/jpeg:https://thebeatsofafrica.com/wp-content/uploads/2026/03/The-Black-Star-Experience-France-Edition.jpg
END:VEVENT
BEGIN:VEVENT
DTSTART;TZID=GMT:20260306T190000
DTEND;TZID=GMT:20260306T235900
DTSTAMP:20260303T053835
CREATED:20260118T180651Z
LAST-MODIFIED:20260118T180651Z
UID:11944-1772823600-1772841540@thebeatsofafrica.com
SUMMARY:Rapperholic London - Ghana Independence Day Sarkodie and Friends
DESCRIPTION:
URL:https://thebeatsofafrica.com/beats-event/rapperholic-london-ghana-independence-day-sarkodie-and-friends/
LOCATION:Royal Albert Hall\, Royal Albert Hall\, Kensington Gore\, South Kensington\, London\, SW7 2AP\, United Kingdom
CATEGORIES:Concert
ATTACH;FMTTYPE=image/jpeg:https://thebeatsofafrica.com/wp-content/uploads/2026/01/sarkodie-london.jpg
END:VEVENT
BEGIN:VEVENT
DTSTART;TZID=-05:00:20260305T220000
DTEND;TZID=-05:00:20260306T020000
DTSTAMP:20260303T053835
CREATED:20260303T031046Z
LAST-MODIFIED:20260303T031046Z
UID:12880-1772748000-1772762400@thebeatsofafrica.com
SUMMARY:Ghana Independence: Welcome Party
DESCRIPTION:
URL:https://thebeatsofafrica.com/beats-event/ghana-independence-welcome-party/
LOCATION:Rosebar DC\, 2000 18th St NW\, Washington DC\, 20009\, United States
CATEGORIES:Club Night
ATTACH;FMTTYPE=image/jpeg:https://thebeatsofafrica.com/wp-content/uploads/2026/03/Ghana-Independence-Welcome-Party.jpeg
END:VEVENT
BEGIN:VEVENT
DTSTART;TZID=GMT:20260304T220000
DTEND;TZID=GMT:20260305T030000
DTSTAMP:20260303T053835
CREATED:20260303T030858Z
LAST-MODIFIED:20260303T030858Z
UID:12847-1772661600-1772679600@thebeatsofafrica.com
SUMMARY:+233 Link Up Birmingham
DESCRIPTION:
URL:https://thebeatsofafrica.com/beats-event/233-link-up-birmingham/
LOCATION:Club Colette\, 5 Lower Trinity St\, Deritend\, Birmingham\, B9 4AG\, United Kingdom
CATEGORIES:Club Night
ATTACH;FMTTYPE=image/jpeg:https://thebeatsofafrica.com/wp-content/uploads/2026/03/233.jpg
END:VEVENT
BEGIN:VEVENT
DTSTART;TZID=Europe/London:20260221T230000
DTEND;TZID=Europe/London:20260222T040000
DTSTAMP:20260303T053835
CREATED:20260207T222008Z
LAST-MODIFIED:20260207T222058Z
UID:12340-1771714800-1771732800@thebeatsofafrica.com
SUMMARY:TRENDY: London Takeover #2
DESCRIPTION:
URL:https://thebeatsofafrica.com/beats-event/trendy-london-takeover-2/
LOCATION:The Lower Third\, 26 Denmark St\, London\, WC2H 8NJ\, United Kingdom
ATTACH;FMTTYPE=image/avif:https://thebeatsofafrica.com/wp-content/uploads/2026/02/TRENDY-London-Takeover-2.avif
END:VEVENT
BEGIN:VEVENT
DTSTART;TZID=GMT:20260221T220000
DTEND;TZID=GMT:20260222T050000
DTSTAMP:20260303T053835
CREATED:20260118T180547Z
LAST-MODIFIED:20260118T180547Z
UID:11922-1771711200-1771736400@thebeatsofafrica.com
SUMMARY:Chella Live in Birmingham
DESCRIPTION:
URL:https://thebeatsofafrica.com/beats-event/chella-live-in-birmingham/
LOCATION:CAVE BIRMINGHAM\, 30-31 Lower Tower St\, Birmingham\, B19 3NH\, United Kingdom
CATEGORIES:Concert
ATTACH;FMTTYPE=image/jpeg:https://thebeatsofafrica.com/wp-content/uploads/2026/01/Chella-Live-in-Birmingham-.jpg
END:VEVENT
BEGIN:VEVENT
DTSTART;TZID=Europe/Lisbon:20260221T220000
DTEND;TZID=Europe/Lisbon:20260222T040000
DTSTAMP:20260303T053835
CREATED:20260126T194745Z
LAST-MODIFIED:20260126T195012Z
UID:12172-1771711200-1771732800@thebeatsofafrica.com
SUMMARY:WAHALA CARNIVAL VIBES
DESCRIPTION:
URL:https://thebeatsofafrica.com/beats-event/wahala-carnival-vibes/
LOCATION:Armazém 18\, Rua Norberto de Oliveira 18\, Odivelas\, 2675-416\, Portugal
CATEGORIES:Club Night
ATTACH;FMTTYPE=image/jpeg:https://thebeatsofafrica.com/wp-content/uploads/2026/01/WAHALA-CARNIVAL-VIBES-.jpg
END:VEVENT
BEGIN:VEVENT
DTSTART;TZID=Europe/Madrid:20260221T220000
DTEND;TZID=Europe/Madrid:20260222T040000
DTSTAMP:20260303T053835
CREATED:20260118T180535Z
LAST-MODIFIED:20260118T180535Z
UID:11917-1771711200-1771732800@thebeatsofafrica.com
SUMMARY:AMAPIANODMV & Echostage Present: A Night of Amapiano
DESCRIPTION:
URL:https://thebeatsofafrica.com/beats-event/amapianodmv-echostage-present-a-night-of-amapiano/
LOCATION:Echostage\, 2135 Queens Chapel Rd NE\, Washington\, DC 20018\, United States
CATEGORIES:Club Night
ATTACH;FMTTYPE=image/png:https://thebeatsofafrica.com/wp-content/uploads/2026/01/AMAPIANODMV-Echostage.png
END:VEVENT
BEGIN:VEVENT
DTSTART;TZID=Europe/Madrid:20260221T200000
DTEND;TZID=Europe/Madrid:20260221T235900
DTSTAMP:20260303T053835
CREATED:20260118T180546Z
LAST-MODIFIED:20260118T180546Z
UID:11921-1771704000-1771718340@thebeatsofafrica.com
SUMMARY:Calema
DESCRIPTION:
URL:https://thebeatsofafrica.com/beats-event/calema/
LOCATION:Accor Arena\, 8 Bd de Bercy\, Paris\, 75012\, France
CATEGORIES:Concert
ATTACH;FMTTYPE=image/jpeg:https://thebeatsofafrica.com/wp-content/uploads/2026/01/Calema-Paris.jpg
END:VEVENT
BEGIN:VEVENT
DTSTART;TZID=GMT:20260214T220000
DTEND;TZID=GMT:20260215T040000
DTSTAMP:20260303T053835
CREATED:20260118T180602Z
LAST-MODIFIED:20260118T180602Z
UID:11926-1771106400-1771128000@thebeatsofafrica.com
SUMMARY:DARKOO Live at Slay Glasgow
DESCRIPTION:
URL:https://thebeatsofafrica.com/beats-event/darkoo-live-at-slay-glasgow/
LOCATION:Slay Glasgow\, 24 Glassford St\, Glasgow\, G1 1UL\, United Kingdom
CATEGORIES:Tour
ATTACH;FMTTYPE=image/jpeg:https://thebeatsofafrica.com/wp-content/uploads/2026/01/DARKOO-Live-at-Slay-Glasgow.jpeg
END:VEVENT
BEGIN:VEVENT
DTSTART;TZID=Europe/Madrid:20260214T183000
DTEND;TZID=Europe/Madrid:20260215T030000
DTSTAMP:20260303T053835
CREATED:20260207T220030Z
LAST-MODIFIED:20260207T220500Z
UID:12327-1771093800-1771124400@thebeatsofafrica.com
SUMMARY:AFROSPLASH VOL. 20
DESCRIPTION:
URL:https://thebeatsofafrica.com/beats-event/afrosplash-vol-20/
LOCATION:Marina Beach Club\, Paseo de Neptuno s/n\, Valencia\, 46011\, Spain
CATEGORIES:Club Night,Day Party
ATTACH;FMTTYPE=image/jpeg:https://thebeatsofafrica.com/wp-content/uploads/2026/02/afrosplash-vol-20.jpeg
END:VEVENT
BEGIN:VEVENT
DTSTART;TZID=GMT:20260213T190000
DTEND;TZID=GMT:20260213T230000
DTSTAMP:20260303T053835
CREATED:20260118T180601Z
LAST-MODIFIED:20260118T180601Z
UID:11925-1771009200-1771023600@thebeatsofafrica.com
SUMMARY:DARKOO Live at Seven Nine
DESCRIPTION:
URL:https://thebeatsofafrica.com/beats-event/darkoo-live-at-seven-nine/
LOCATION:SevenNine Dublin\, 79 Grafton Street\, Dublin 2\, D02 K033\, Ireland
CATEGORIES:Tour
ATTACH;FMTTYPE=image/jpeg:https://thebeatsofafrica.com/wp-content/uploads/2026/01/DARKOO-LIVE-in-dublin.jpg
END:VEVENT
BEGIN:VEVENT
DTSTART;TZID=Africa/Lagos:20260213T180000
DTEND;TZID=Africa/Lagos:20260213T230000
DTSTAMP:20260303T053835
CREATED:20260126T183827Z
LAST-MODIFIED:20260126T184026Z
UID:12128-1771005600-1771023600@thebeatsofafrica.com
SUMMARY:FOLA LIVE IN ABUJA
DESCRIPTION:
URL:https://thebeatsofafrica.com/beats-event/fola-live-in-abuja/
LOCATION:Thisday Dome Abuja\, Kur Mohammed Ave\, Central Business Dis\, Abuja\, Abuja\, 900103\, Nigeria
CATEGORIES:Concert
ATTACH;FMTTYPE=image/png:https://thebeatsofafrica.com/wp-content/uploads/2026/01/image-4.png
END:VEVENT
BEGIN:VEVENT
DTSTART;TZID=Europe/Madrid:20260207T235900
DTEND;TZID=Europe/Madrid:20260208T060000
DTSTAMP:20260303T053835
CREATED:20260118T180735Z
LAST-MODIFIED:20260118T180735Z
UID:11958-1770508740-1770530400@thebeatsofafrica.com
SUMMARY:TRENDY Paris
DESCRIPTION:
URL:https://thebeatsofafrica.com/beats-event/trendy-paris/
LOCATION:La Machine du Moulin Rouge\, 90 Bd de Clichy\, Paris\, 75018\, France
CATEGORIES:Club Night
ATTACH;FMTTYPE=image/jpeg:https://thebeatsofafrica.com/wp-content/uploads/2026/01/TRENDY-Paris.jpg
END:VEVENT
BEGIN:VEVENT
DTSTART;TZID=GMT:20260207T220000
DTEND;TZID=GMT:20260208T050000
DTSTAMP:20260303T053835
CREATED:20260118T180550Z
LAST-MODIFIED:20260118T180550Z
UID:11924-1770501600-1770526800@thebeatsofafrica.com
SUMMARY:DARKOO Live at Cave Birmingham
DESCRIPTION:
URL:https://thebeatsofafrica.com/beats-event/darkoo-live-at-cave-birmingham/
LOCATION:CAVE BIRMINGHAM\, 30-31 Lower Tower St\, Birmingham\, B19 3NH\, United Kingdom
CATEGORIES:Tour
ATTACH;FMTTYPE=image/jpeg:https://thebeatsofafrica.com/wp-content/uploads/2026/01/DARKOO-Live-at-Cave-Birmingham.jpg
END:VEVENT
END:VCALENDAR