BEGIN:VCALENDAR
VERSION:2.0
PRODID:-//The Beats of Africa - ECPv6.15.17//NONSGML v1.0//EN
CALSCALE:GREGORIAN
METHOD:PUBLISH
X-ORIGINAL-URL:https://thebeatsofafrica.com
X-WR-CALDESC:Events for The Beats of Africa
REFRESH-INTERVAL;VALUE=DURATION:PT1H
X-Robots-Tag:noindex
X-PUBLISHED-TTL:PT1H
BEGIN:VTIMEZONE
TZID:+01:00
END:VTIMEZONE
BEGIN:VTIMEZONE
TZID:Europe/Madrid
BEGIN:DAYLIGHT
TZOFFSETFROM:+0100
TZOFFSETTO:+0200
TZNAME:CEST
DTSTART:20250330T010000
END:DAYLIGHT
BEGIN:STANDARD
TZOFFSETFROM:+0200
TZOFFSETTO:+0100
TZNAME:CET
DTSTART:20251026T010000
END:STANDARD
BEGIN:DAYLIGHT
TZOFFSETFROM:+0100
TZOFFSETTO:+0200
TZNAME:CEST
DTSTART:20260329T010000
END:DAYLIGHT
BEGIN:STANDARD
TZOFFSETFROM:+0200
TZOFFSETTO:+0100
TZNAME:CET
DTSTART:20261025T010000
END:STANDARD
BEGIN:DAYLIGHT
TZOFFSETFROM:+0100
TZOFFSETTO:+0200
TZNAME:CEST
DTSTART:20270328T010000
END:DAYLIGHT
BEGIN:STANDARD
TZOFFSETFROM:+0200
TZOFFSETTO:+0100
TZNAME:CET
DTSTART:20271031T010000
END:STANDARD
END:VTIMEZONE
BEGIN:VTIMEZONE
TZID:+11:00
END:VTIMEZONE
BEGIN:VTIMEZONE
TZID:+10:00
END:VTIMEZONE
BEGIN:VTIMEZONE
TZID:Europe/London
BEGIN:DAYLIGHT
TZOFFSETFROM:+0000
TZOFFSETTO:+0100
TZNAME:BST
DTSTART:20250330T010000
END:DAYLIGHT
BEGIN:STANDARD
TZOFFSETFROM:+0100
TZOFFSETTO:+0000
TZNAME:GMT
DTSTART:20251026T010000
END:STANDARD
BEGIN:DAYLIGHT
TZOFFSETFROM:+0000
TZOFFSETTO:+0100
TZNAME:BST
DTSTART:20260329T010000
END:DAYLIGHT
BEGIN:STANDARD
TZOFFSETFROM:+0100
TZOFFSETTO:+0000
TZNAME:GMT
DTSTART:20261025T010000
END:STANDARD
BEGIN:DAYLIGHT
TZOFFSETFROM:+0000
TZOFFSETTO:+0100
TZNAME:BST
DTSTART:20270328T010000
END:DAYLIGHT
BEGIN:STANDARD
TZOFFSETFROM:+0100
TZOFFSETTO:+0000
TZNAME:GMT
DTSTART:20271031T010000
END:STANDARD
END:VTIMEZONE
BEGIN:VTIMEZONE
TZID:Europe/Paris
BEGIN:DAYLIGHT
TZOFFSETFROM:+0100
TZOFFSETTO:+0200
TZNAME:CEST
DTSTART:20250330T010000
END:DAYLIGHT
BEGIN:STANDARD
TZOFFSETFROM:+0200
TZOFFSETTO:+0100
TZNAME:CET
DTSTART:20251026T010000
END:STANDARD
BEGIN:DAYLIGHT
TZOFFSETFROM:+0100
TZOFFSETTO:+0200
TZNAME:CEST
DTSTART:20260329T010000
END:DAYLIGHT
BEGIN:STANDARD
TZOFFSETFROM:+0200
TZOFFSETTO:+0100
TZNAME:CET
DTSTART:20261025T010000
END:STANDARD
BEGIN:DAYLIGHT
TZOFFSETFROM:+0100
TZOFFSETTO:+0200
TZNAME:CEST
DTSTART:20270328T010000
END:DAYLIGHT
BEGIN:STANDARD
TZOFFSETFROM:+0200
TZOFFSETTO:+0100
TZNAME:CET
DTSTART:20271031T010000
END:STANDARD
END:VTIMEZONE
BEGIN:VTIMEZONE
TZID:GMT
END:VTIMEZONE
BEGIN:VEVENT
DTSTART;TZID=+01:00:20260402T190000
DTEND;TZID=+01:00:20260402T230000
DTSTAMP:20260302T224740
CREATED:20251214T135606Z
LAST-MODIFIED:20251214T135606Z
UID:11495-1775156400-1775170800@thebeatsofafrica.com
SUMMARY:Odeal - the Shows That Saved Us Tour Berlin
DESCRIPTION:
URL:https://thebeatsofafrica.com/beats-event/odeal-the-shows-that-saved-us-tour-berlin/
LOCATION:Huxleys Neue Welt\, Hasenheide 107/113\, Berlin\, 10967\, Germany
CATEGORIES:Tour
ATTACH;FMTTYPE=image/jpeg:https://thebeatsofafrica.com/wp-content/uploads/2025/12/Odeal-the-Shows-That-Saved-Us-Tour.jpg
END:VEVENT
BEGIN:VEVENT
DTSTART;TZID=Europe/Madrid:20260402T200000
DTEND;TZID=Europe/Madrid:20260402T235900
DTSTAMP:20260302T224740
CREATED:20260118T180617Z
LAST-MODIFIED:20260118T180617Z
UID:11931-1775160000-1775174340@thebeatsofafrica.com
SUMMARY:Davido: 5ive Alive Tour Sweden
DESCRIPTION:
URL:https://thebeatsofafrica.com/beats-event/davido-5ive-alive-tour-sweden/
LOCATION:Banan-Kompaniet\, Frihamnsgatan 14\, Stockholm\, 115 56\, Sweden
CATEGORIES:Tour
ATTACH;FMTTYPE=image/jpeg:https://thebeatsofafrica.com/wp-content/uploads/2026/01/Davido-5ive-Alive-Tour.jpg
END:VEVENT
BEGIN:VEVENT
DTSTART;TZID=Europe/Madrid:20260403T200000
DTEND;TZID=Europe/Madrid:20260403T235900
DTSTAMP:20260302T224740
CREATED:20260118T180618Z
LAST-MODIFIED:20260118T180618Z
UID:11932-1775246400-1775260740@thebeatsofafrica.com
SUMMARY:Davido: 5ive Alive Tour Denmark
DESCRIPTION:
URL:https://thebeatsofafrica.com/beats-event/davido-5ive-alive-tour-denmark/
LOCATION:Poolen\, Nørre Allé 13\, Copenhagen\, 2200\, Denmark
CATEGORIES:Tour
ATTACH;FMTTYPE=image/jpeg:https://thebeatsofafrica.com/wp-content/uploads/2026/01/Davido-5ive-Alive-Tour.jpg
END:VEVENT
BEGIN:VEVENT
DTSTART;TZID=Europe/Madrid:20260404T190000
DTEND;TZID=Europe/Madrid:20260404T235900
DTSTAMP:20260302T224740
CREATED:20260118T180636Z
LAST-MODIFIED:20260118T180636Z
UID:11939-1775329200-1775347140@thebeatsofafrica.com
SUMMARY:Ferre Gola
DESCRIPTION:
URL:https://thebeatsofafrica.com/beats-event/ferre-gola/
LOCATION:Accor Arena\, 8 Bd de Bercy\, Paris\, 75012\, France
CATEGORIES:Concert
ATTACH;FMTTYPE=image/jpeg:https://thebeatsofafrica.com/wp-content/uploads/2026/01/Ferre-Gola-accor-arena-paris.jpg
END:VEVENT
BEGIN:VEVENT
DTSTART;TZID=Europe/Madrid:20260404T200000
DTEND;TZID=Europe/Madrid:20260404T235900
DTSTAMP:20260302T224740
CREATED:20260118T180720Z
LAST-MODIFIED:20260118T180720Z
UID:11953-1775332800-1775347140@thebeatsofafrica.com
SUMMARY:Ruger – Australia Tour BRISBANE 2026
DESCRIPTION:
URL:https://thebeatsofafrica.com/beats-event/ruger-australia-tour-brisbane-2026/
LOCATION:Fortitude Music Hall\, 312-318 Brunswick St\, Fortitude Valley\, QLD 4006\, Australia
CATEGORIES:Tour
ATTACH;FMTTYPE=image/jpeg:https://thebeatsofafrica.com/wp-content/uploads/2026/01/ruger-AUSTRALIA.jpg
END:VEVENT
BEGIN:VEVENT
DTSTART;TZID=Europe/Madrid:20260405T140000
DTEND;TZID=Europe/Madrid:20260405T220000
DTSTAMP:20260302T224740
CREATED:20260118T180620Z
LAST-MODIFIED:20260118T180620Z
UID:11933-1775397600-1775426400@thebeatsofafrica.com
SUMMARY:Davido: Afrobrunch Barcelona
DESCRIPTION:
URL:https://thebeatsofafrica.com/beats-event/davido-afrobrunch-barcelona/
LOCATION:London
CATEGORIES:Tour
ATTACH;FMTTYPE=image/jpeg:https://thebeatsofafrica.com/wp-content/uploads/2026/01/Davido-5ive-Alive-Tour.jpg
END:VEVENT
BEGIN:VEVENT
DTSTART;TZID=Europe/Madrid:20260410T200000
DTEND;TZID=Europe/Madrid:20260410T235900
DTSTAMP:20260302T224740
CREATED:20260118T180645Z
LAST-MODIFIED:20260118T180645Z
UID:11940-1775851200-1775865540@thebeatsofafrica.com
SUMMARY:Genezio
DESCRIPTION:
URL:https://thebeatsofafrica.com/beats-event/genezio/
LOCATION:Zénith Paris – La Villette\, 211 Av. Jean Jaurès\, Paris\, 75019\, France
CATEGORIES:Concert
ATTACH;FMTTYPE=image/avif:https://thebeatsofafrica.com/wp-content/uploads/2026/01/Genezio-paris.avif
END:VEVENT
BEGIN:VEVENT
DTSTART;TZID=Europe/Madrid:20260412T190000
DTEND;TZID=Europe/Madrid:20260412T235900
DTSTAMP:20260302T224741
CREATED:20260118T180731Z
LAST-MODIFIED:20260118T180731Z
UID:11955-1776020400-1776038340@thebeatsofafrica.com
SUMMARY:Serge Beynaud
DESCRIPTION:
URL:https://thebeatsofafrica.com/beats-event/serge-beynaud/
LOCATION:La Cigale\, 120 Blvd Marguerite de Rochechouart\, Paris\, 75018\, France
CATEGORIES:Concert
ATTACH;FMTTYPE=image/jpeg:https://thebeatsofafrica.com/wp-content/uploads/2026/01/Serge-Beynaud-La-Cigale.jpg
END:VEVENT
BEGIN:VEVENT
DTSTART;TZID=+11:00:20260416T190000
DTEND;TZID=+11:00:20260416T230000
DTSTAMP:20260302T224741
CREATED:20251214T135758Z
LAST-MODIFIED:20251214T135758Z
UID:11496-1776366000-1776380400@thebeatsofafrica.com
SUMMARY:Odeal - the Shows That Saved Us Tour Melbourne
DESCRIPTION:
URL:https://thebeatsofafrica.com/beats-event/odeal-the-shows-that-saved-us-tour-melbourne/
LOCATION:170 Russell\, 170 Russell St\, Melbourne\, VIC 3000\, Australia
CATEGORIES:Tour
ATTACH;FMTTYPE=image/jpeg:https://thebeatsofafrica.com/wp-content/uploads/2025/12/Odeal-the-Shows-That-Saved-Us-Tour.jpg
END:VEVENT
BEGIN:VEVENT
DTSTART;TZID=+10:00:20260417T190000
DTEND;TZID=+10:00:20260417T230000
DTSTAMP:20260302T224741
CREATED:20251214T135800Z
LAST-MODIFIED:20251214T135800Z
UID:11497-1776452400-1776466800@thebeatsofafrica.com
SUMMARY:Odeal - the Shows That Saved Us Tour Brisbane
DESCRIPTION:
URL:https://thebeatsofafrica.com/beats-event/odeal-the-shows-that-saved-us-tour-brisbane/
LOCATION:The Tivoli\, 52 Costin St\, Fortitude Valley\, QLD 4006\, Australia
CATEGORIES:Tour
ATTACH;FMTTYPE=image/jpeg:https://thebeatsofafrica.com/wp-content/uploads/2025/12/Odeal-the-Shows-That-Saved-Us-Tour.jpg
END:VEVENT
BEGIN:VEVENT
DTSTART;TZID=Europe/Madrid:20260419T183000
DTEND;TZID=Europe/Madrid:20260419T235900
DTSTAMP:20260302T224741
CREATED:20260118T180621Z
LAST-MODIFIED:20260118T180621Z
UID:11934-1776623400-1776643140@thebeatsofafrica.com
SUMMARY:DIDI B
DESCRIPTION:
URL:https://thebeatsofafrica.com/beats-event/didi-b/
LOCATION:Zénith Paris – La Villette\, 211 Av. Jean Jaurès\, Paris\, 75019\, France
CATEGORIES:Concert
ATTACH;FMTTYPE=image/jpeg:https://thebeatsofafrica.com/wp-content/uploads/2026/01/Zenith-Didi-B.jpeg
END:VEVENT
BEGIN:VEVENT
DTSTART;TZID=+11:00:20260419T190000
DTEND;TZID=+11:00:20260419T230000
DTSTAMP:20260302T224741
CREATED:20251214T135802Z
LAST-MODIFIED:20251214T135802Z
UID:11498-1776625200-1776639600@thebeatsofafrica.com
SUMMARY:Odeal - the Shows That Saved Us Tour Sydney
DESCRIPTION:
URL:https://thebeatsofafrica.com/beats-event/odeal-the-shows-that-saved-us-tour-sydney/
LOCATION:Liberty Hall\, Lekki-Epe Expressway\, After the 2nd Roundabout\, Lagos Jakande\, Nigeria
CATEGORIES:Tour
ATTACH;FMTTYPE=image/jpeg:https://thebeatsofafrica.com/wp-content/uploads/2025/12/Odeal-the-Shows-That-Saved-Us-Tour.jpg
END:VEVENT
BEGIN:VEVENT
DTSTART;TZID=Europe/London:20260423T190000
DTEND;TZID=Europe/London:20260423T223000
DTSTAMP:20260302T224741
CREATED:20260126T185020Z
LAST-MODIFIED:20260126T185022Z
UID:12138-1776970800-1776983400@thebeatsofafrica.com
SUMMARY:The Jazz Cafe presents Nissi
DESCRIPTION:
URL:https://thebeatsofafrica.com/beats-event/the-jazz-cafe-presents-nissi/
LOCATION:Jazz Cafe\, 5 Parkway Camden Town\, London\, NW1 7PG\, United Kingdom
CATEGORIES:Concert
ATTACH;FMTTYPE=image/jpeg:https://thebeatsofafrica.com/wp-content/uploads/2026/01/The-Jazz-Cafe-presents-Nissi.jpg
END:VEVENT
BEGIN:VEVENT
DTSTART;TZID=Europe/Paris:20260424T200000
DTEND;TZID=Europe/Paris:20260424T230000
DTSTAMP:20260302T224741
CREATED:20260126T200140Z
LAST-MODIFIED:20260126T200144Z
UID:12181-1777060800-1777071600@thebeatsofafrica.com
SUMMARY:Zaiko Langa Langa - Jossart Nyoka Longo
DESCRIPTION:
URL:https://thebeatsofafrica.com/beats-event/zaiko-langa-langa-jossart-nyoka-longo/
LOCATION:Zénith Paris – La Villette\, 211 Av. Jean Jaurès\, Paris\, 75019\, France
CATEGORIES:Concert
ATTACH;FMTTYPE=image/jpeg:https://thebeatsofafrica.com/wp-content/uploads/2026/01/Zaiko-Langa-Langa.jpg
END:VEVENT
BEGIN:VEVENT
DTSTART;TZID=Europe/Madrid:20260426T200000
DTEND;TZID=Europe/Madrid:20260426T235900
DTSTAMP:20260302T224741
CREATED:20260118T180534Z
LAST-MODIFIED:20260118T180534Z
UID:11916-1777233600-1777247940@thebeatsofafrica.com
SUMMARY:Amaarae
DESCRIPTION:
URL:https://thebeatsofafrica.com/beats-event/amaarae/
LOCATION:L’Olympia\, 28 Bd des Capucines\, Paris\, Paris\, 75009\, France
CATEGORIES:Concert
ATTACH;FMTTYPE=image/jpeg:https://thebeatsofafrica.com/wp-content/uploads/2026/01/amaarae-lolympia-paris.jpg
END:VEVENT
BEGIN:VEVENT
DTSTART;TZID=Europe/Madrid:20260502T180000
DTEND;TZID=Europe/Madrid:20260502T235900
DTSTAMP:20260302T224741
CREATED:20260118T180635Z
LAST-MODIFIED:20260118T180635Z
UID:11938-1777744800-1777766340@thebeatsofafrica.com
SUMMARY:Fally Ipupa
DESCRIPTION:
URL:https://thebeatsofafrica.com/beats-event/fally-ipupa/
LOCATION:Stade de France\, 93216 Saint-Denis\, Paris\, 93216\, France
CATEGORIES:Concert
ATTACH;FMTTYPE=image/jpeg:https://thebeatsofafrica.com/wp-content/uploads/2026/01/fally-ipupa-2-mai.jpg
END:VEVENT
BEGIN:VEVENT
DTSTART;TZID=Europe/Madrid:20260522T200000
DTEND;TZID=Europe/Madrid:20260522T235900
DTSTAMP:20260302T224741
CREATED:20260118T180648Z
LAST-MODIFIED:20260118T180648Z
UID:11942-1779480000-1779494340@thebeatsofafrica.com
SUMMARY:Kulturr
DESCRIPTION:
URL:https://thebeatsofafrica.com/beats-event/kulturr/
LOCATION:La Cigale\, 120 Blvd Marguerite de Rochechouart\, Paris\, 75018\, France
CATEGORIES:Concert
ATTACH;FMTTYPE=image/jpeg:https://thebeatsofafrica.com/wp-content/uploads/2026/01/Kulturr-Paris.jpg
END:VEVENT
BEGIN:VEVENT
DTSTART;TZID=Europe/Madrid:20260524T200000
DTEND;TZID=Europe/Madrid:20260525T030000
DTSTAMP:20260302T224741
CREATED:20260118T180721Z
LAST-MODIFIED:20260118T180721Z
UID:11954-1779652800-1779678000@thebeatsofafrica.com
SUMMARY:Scorpion Kings Live
DESCRIPTION:
URL:https://thebeatsofafrica.com/beats-event/scorpion-kings-live/
LOCATION:Barking Park\, Longbridge Road\, Barking\, IG11 8TA\, United Kingdom
CATEGORIES:Concert
ATTACH;FMTTYPE=image/jpeg:https://thebeatsofafrica.com/wp-content/uploads/2026/01/Scorpion-Kings-2026.jpg
END:VEVENT
BEGIN:VEVENT
DTSTART;TZID=Europe/London:20260530T220000
DTEND;TZID=Europe/London:20260531T230000
DTSTAMP:20260302T224741
CREATED:20260126T201103Z
LAST-MODIFIED:20260207T011732Z
UID:12187-1780178400-1780268400@thebeatsofafrica.com
SUMMARY:Ice Prince Live Birmingham
DESCRIPTION:
URL:https://thebeatsofafrica.com/beats-event/ice-prince-live-birmingham/
LOCATION:CAVE BIRMINGHAM\, 30-31 Lower Tower St\, Birmingham\, B19 3NH\, United Kingdom
CATEGORIES:Concert
ATTACH;FMTTYPE=image/jpeg:https://thebeatsofafrica.com/wp-content/uploads/2026/01/Ice-Prince-Live-Birmingham.jpg
END:VEVENT
BEGIN:VEVENT
DTSTART;TZID=Europe/Madrid:20260608T200000
DTEND;TZID=Europe/Madrid:20260608T235900
DTSTAMP:20260302T224741
CREATED:20260118T180701Z
LAST-MODIFIED:20260118T180701Z
UID:11945-1780948800-1780963140@thebeatsofafrica.com
SUMMARY:Rema Live In London
DESCRIPTION:
URL:https://thebeatsofafrica.com/beats-event/rema-live-in-london/
LOCATION:O2 Arena\, Peninsula Square\, London\, SE10 0DX\, United Kingdom
CATEGORIES:Tour
ATTACH;FMTTYPE=image/jpeg:https://thebeatsofafrica.com/wp-content/uploads/2026/01/rema-2026.jpg
END:VEVENT
BEGIN:VEVENT
DTSTART;TZID=GMT:20260613T200000
DTEND;TZID=GMT:20260613T235900
DTSTAMP:20260302T224741
CREATED:20260118T180702Z
LAST-MODIFIED:20260118T180702Z
UID:11946-1781380800-1781395140@thebeatsofafrica.com
SUMMARY:Rema Live In Morocco
DESCRIPTION:
URL:https://thebeatsofafrica.com/beats-event/rema-live-in-morocco/
LOCATION:Morocco Mall\, 1 Bd de l'Océan\, Casablanca\, 20180\, Morocco
CATEGORIES:Tour
ATTACH;FMTTYPE=image/jpeg:https://thebeatsofafrica.com/wp-content/uploads/2026/01/rema-2026.jpg
END:VEVENT
BEGIN:VEVENT
DTSTART;TZID=Europe/Madrid:20260619T200000
DTEND;TZID=Europe/Madrid:20260619T235900
DTSTAMP:20260302T224741
CREATED:20260118T180732Z
LAST-MODIFIED:20260118T180732Z
UID:11956-1781899200-1781913540@thebeatsofafrica.com
SUMMARY:Singuila
DESCRIPTION:
URL:https://thebeatsofafrica.com/beats-event/singuila/
LOCATION:Accor Arena\, 8 Bd de Bercy\, Paris\, 75012\, France
CATEGORIES:Concert
ATTACH;FMTTYPE=image/jpeg:https://thebeatsofafrica.com/wp-content/uploads/2026/01/Singuila-Accor-Arena.jpg
END:VEVENT
BEGIN:VEVENT
DTSTART;TZID=Europe/Madrid:20260705T200000
DTEND;TZID=Europe/Madrid:20260705T235900
DTSTAMP:20260302T224741
CREATED:20260118T180707Z
LAST-MODIFIED:20260118T180707Z
UID:11948-1783281600-1783295940@thebeatsofafrica.com
SUMMARY:Rema: Afro Carneval
DESCRIPTION:
URL:https://thebeatsofafrica.com/beats-event/rema-afro-carneval/
LOCATION:The Valley\, Kemptpark 2\, Kemptthal\, 8310\, Switzerland
CATEGORIES:Tour
ATTACH;FMTTYPE=image/jpeg:https://thebeatsofafrica.com/wp-content/uploads/2026/01/rema-2026.jpg
END:VEVENT
BEGIN:VEVENT
DTSTART;TZID=Europe/Madrid:20260801T200000
DTEND;TZID=Europe/Madrid:20260801T235900
DTSTAMP:20260302T224741
CREATED:20260118T180704Z
LAST-MODIFIED:20260126T183438Z
UID:11947-1785614400-1785628740@thebeatsofafrica.com
SUMMARY:Rema Live In Malmö
DESCRIPTION:
URL:https://thebeatsofafrica.com/beats-event/rema-live-in-malmo/
LOCATION:Tallriken\, Pildammsparken\, Malmö\, 211 46\, Sweden
CATEGORIES:Tour
ATTACH;FMTTYPE=image/jpeg:https://thebeatsofafrica.com/wp-content/uploads/2026/01/rema-2026.jpg
END:VEVENT
BEGIN:VEVENT
DTSTART;TZID=Europe/London:20260925T193000
DTEND;TZID=Europe/London:20260925T230000
DTSTAMP:20260302T224741
CREATED:20260207T222834Z
LAST-MODIFIED:20260207T222838Z
UID:12347-1790364600-1790377200@thebeatsofafrica.com
SUMMARY:Young Jonn Live In Concert London
DESCRIPTION:
URL:https://thebeatsofafrica.com/beats-event/young-jonn-live-in-concert-london/
LOCATION:London\, London\, United Kingdom
CATEGORIES:Concert
ATTACH;FMTTYPE=image/jpeg:https://thebeatsofafrica.com/wp-content/uploads/2026/02/Young-Jonn-Live-In-Concert-London.jpg
END:VEVENT
END:VCALENDAR