BEGIN:VCALENDAR
VERSION:2.0
PRODID:-//The Beats of Africa - ECPv6.15.20//NONSGML v1.0//EN
CALSCALE:GREGORIAN
METHOD:PUBLISH
X-ORIGINAL-URL:https://thebeatsofafrica.com
X-WR-CALDESC:Events for The Beats of Africa
REFRESH-INTERVAL;VALUE=DURATION:PT1H
X-Robots-Tag:noindex
X-PUBLISHED-TTL:PT1H
BEGIN:VTIMEZONE
TZID:+01:00
END:VTIMEZONE
BEGIN:VEVENT
DTSTART;TZID=+01:00:20260330T190000
DTEND;TZID=+01:00:20260330T230000
DTSTAMP:20260424T165725
CREATED:20251214T135602Z
LAST-MODIFIED:20251214T135602Z
UID:11493-1774897200-1774911600@thebeatsofafrica.com
SUMMARY:Odeal - the Shows That Saved Us Tour Cologne
DESCRIPTION:
URL:https://thebeatsofafrica.com/beats-event/odeal-the-shows-that-saved-us-tour-cologne/
LOCATION:Kantine\, Neusser Landstraße 2\, Köln\, 50735\, Germany
CATEGORIES:Tour
ATTACH;FMTTYPE=image/jpeg:https://thebeatsofafrica.com/wp-content/uploads/2025/12/Odeal-the-Shows-That-Saved-Us-Tour.jpg
END:VEVENT
END:VCALENDAR