BEGIN:VCALENDAR
VERSION:2.0
PRODID:-//The Beats of Africa - ECPv6.15.17//NONSGML v1.0//EN
CALSCALE:GREGORIAN
METHOD:PUBLISH
X-WR-CALNAME:The Beats of Africa
X-ORIGINAL-URL:https://thebeatsofafrica.com
X-WR-CALDESC:Events for The Beats of Africa
REFRESH-INTERVAL;VALUE=DURATION:PT1H
X-Robots-Tag:noindex
X-PUBLISHED-TTL:PT1H
BEGIN:VTIMEZONE
TZID:Europe/London
BEGIN:DAYLIGHT
TZOFFSETFROM:+0000
TZOFFSETTO:+0100
TZNAME:BST
DTSTART:20250330T010000
END:DAYLIGHT
BEGIN:STANDARD
TZOFFSETFROM:+0100
TZOFFSETTO:+0000
TZNAME:GMT
DTSTART:20251026T010000
END:STANDARD
BEGIN:DAYLIGHT
TZOFFSETFROM:+0000
TZOFFSETTO:+0100
TZNAME:BST
DTSTART:20260329T010000
END:DAYLIGHT
BEGIN:STANDARD
TZOFFSETFROM:+0100
TZOFFSETTO:+0000
TZNAME:GMT
DTSTART:20261025T010000
END:STANDARD
BEGIN:DAYLIGHT
TZOFFSETFROM:+0000
TZOFFSETTO:+0100
TZNAME:BST
DTSTART:20270328T010000
END:DAYLIGHT
BEGIN:STANDARD
TZOFFSETFROM:+0100
TZOFFSETTO:+0000
TZNAME:GMT
DTSTART:20271031T010000
END:STANDARD
END:VTIMEZONE
BEGIN:VEVENT
DTSTART;TZID=Europe/London:20260530T220000
DTEND;TZID=Europe/London:20260531T230000
DTSTAMP:20260306T230501
CREATED:20260126T201103Z
LAST-MODIFIED:20260207T011732Z
UID:12187-1780178400-1780268400@thebeatsofafrica.com
SUMMARY:Ice Prince Live Birmingham
DESCRIPTION:
URL:https://thebeatsofafrica.com/beats-event/ice-prince-live-birmingham/
LOCATION:CAVE BIRMINGHAM\, 30-31 Lower Tower St\, Birmingham\, B19 3NH\, United Kingdom
CATEGORIES:Concert
ATTACH;FMTTYPE=image/jpeg:https://thebeatsofafrica.com/wp-content/uploads/2026/01/Ice-Prince-Live-Birmingham.jpg
END:VEVENT
END:VCALENDAR