BEGIN:VCALENDAR
VERSION:2.0
PRODID:-//The Beats of Africa - ECPv6.15.20//NONSGML v1.0//EN
CALSCALE:GREGORIAN
METHOD:PUBLISH
X-ORIGINAL-URL:https://thebeatsofafrica.com
X-WR-CALDESC:Events for The Beats of Africa
REFRESH-INTERVAL;VALUE=DURATION:PT1H
X-Robots-Tag:noindex
X-PUBLISHED-TTL:PT1H
BEGIN:VTIMEZONE
TZID:+02:00
END:VTIMEZONE
BEGIN:VTIMEZONE
TZID:Europe/Madrid
BEGIN:DAYLIGHT
TZOFFSETFROM:+0100
TZOFFSETTO:+0200
TZNAME:CEST
DTSTART:20250330T010000
END:DAYLIGHT
BEGIN:STANDARD
TZOFFSETFROM:+0200
TZOFFSETTO:+0100
TZNAME:CET
DTSTART:20251026T010000
END:STANDARD
BEGIN:DAYLIGHT
TZOFFSETFROM:+0100
TZOFFSETTO:+0200
TZNAME:CEST
DTSTART:20260329T010000
END:DAYLIGHT
BEGIN:STANDARD
TZOFFSETFROM:+0200
TZOFFSETTO:+0100
TZNAME:CET
DTSTART:20261025T010000
END:STANDARD
BEGIN:DAYLIGHT
TZOFFSETFROM:+0100
TZOFFSETTO:+0200
TZNAME:CEST
DTSTART:20270328T010000
END:DAYLIGHT
BEGIN:STANDARD
TZOFFSETFROM:+0200
TZOFFSETTO:+0100
TZNAME:CET
DTSTART:20271031T010000
END:STANDARD
END:VTIMEZONE
BEGIN:VEVENT
DTSTART;TZID=+02:00:20260409T200000
DTEND;TZID=+02:00:20260410T010000
DTSTAMP:20260424T182207
CREATED:20260303T031027Z
LAST-MODIFIED:20260303T031027Z
UID:12872-1775764800-1775782800@thebeatsofafrica.com
SUMMARY:Franglish - Nordic Tour (Oslo)
DESCRIPTION:
URL:https://thebeatsofafrica.com/beats-event/franglish-nordic-tour-oslo/
LOCATION:Rockefeller Music Hall\, Torggata 16\, Oslo\, 181\, Norway
CATEGORIES:Tour
ATTACH;FMTTYPE=image/jpeg:https://thebeatsofafrica.com/wp-content/uploads/2026/03/Franglish-Nordic-Tour-Oslo-FRANGLISH-NORDIC-TOUR-OSLO.jpeg
END:VEVENT
BEGIN:VEVENT
DTSTART;TZID=Europe/Madrid:20260410T200000
DTEND;TZID=Europe/Madrid:20260410T235900
DTSTAMP:20260424T182207
CREATED:20260118T180645Z
LAST-MODIFIED:20260118T180645Z
UID:11940-1775851200-1775865540@thebeatsofafrica.com
SUMMARY:Genezio
DESCRIPTION:
URL:https://thebeatsofafrica.com/beats-event/genezio/
LOCATION:Zénith Paris – La Villette\, 211 Av. Jean Jaurès\, Paris\, 75019\, France
CATEGORIES:Concert
ATTACH;FMTTYPE=image/avif:https://thebeatsofafrica.com/wp-content/uploads/2026/01/Genezio-paris.avif
END:VEVENT
BEGIN:VEVENT
DTSTART;TZID=+02:00:20260410T200000
DTEND;TZID=+02:00:20260411T010000
DTSTAMP:20260424T182207
CREATED:20260303T031016Z
LAST-MODIFIED:20260303T031016Z
UID:12870-1775851200-1775869200@thebeatsofafrica.com
SUMMARY:Franglish - Nordic Tour (Göteborg)
DESCRIPTION:
URL:https://thebeatsofafrica.com/beats-event/franglish-nordic-tour-goteborg/
LOCATION:Frihamnen\, Fiskhamnsvägen\, Göteborg\, 41464\, Sweden
CATEGORIES:Tour
ATTACH;FMTTYPE=image/jpeg:https://thebeatsofafrica.com/wp-content/uploads/2026/03/FRANGLISH-NORDIC-TOUR-GOTEBORG.jpeg
END:VEVENT
END:VCALENDAR