BEGIN:VCALENDAR
VERSION:2.0
PRODID:-//The Beats of Africa - ECPv6.15.20//NONSGML v1.0//EN
CALSCALE:GREGORIAN
METHOD:PUBLISH
X-WR-CALNAME:The Beats of Africa
X-ORIGINAL-URL:https://thebeatsofafrica.com
X-WR-CALDESC:Events for The Beats of Africa
REFRESH-INTERVAL;VALUE=DURATION:PT1H
X-Robots-Tag:noindex
X-PUBLISHED-TTL:PT1H
BEGIN:VTIMEZONE
TZID:-07:00
END:VTIMEZONE
BEGIN:VTIMEZONE
TZID:GMT
END:VTIMEZONE
BEGIN:VTIMEZONE
TZID:+02:00
END:VTIMEZONE
BEGIN:VTIMEZONE
TZID:+01:00
END:VTIMEZONE
BEGIN:VTIMEZONE
TZID:-05:00
END:VTIMEZONE
BEGIN:VEVENT
DTSTART;TZID=-07:00:20260320T200000
DTEND;TZID=-07:00:20260321T020000
DTSTAMP:20260424T140953
CREATED:20260303T031128Z
LAST-MODIFIED:20260303T031128Z
UID:12893-1774036800-1774058400@thebeatsofafrica.com
SUMMARY:Odumodublvck Industry Machine Tour - Calgary
DESCRIPTION:
URL:https://thebeatsofafrica.com/beats-event/odumodublvck-industry-machine-tour-calgary/
LOCATION:The Palace Theatre\, 219 8 Avenue Southwest\, Calgary\, T2P 1B5\, Canada
CATEGORIES:Tour
ATTACH;FMTTYPE=image/jpeg:https://thebeatsofafrica.com/wp-content/uploads/2026/03/odumodublack.jpg
END:VEVENT
BEGIN:VEVENT
DTSTART;TZID=GMT:20260320T220000
DTEND;TZID=GMT:20260321T030000
DTSTAMP:20260424T140953
CREATED:20260303T030903Z
LAST-MODIFIED:20260303T030903Z
UID:12850-1774044000-1774062000@thebeatsofafrica.com
SUMMARY:6uffzaddy UK Tour - London
DESCRIPTION:
URL:https://thebeatsofafrica.com/beats-event/6uffzaddy-uk-tour-london/
LOCATION:Deuce Lounge\, 20-22 London Rd\, Barking\, London\, IG11 8AG\, United Kingdom
CATEGORIES:Tour
ATTACH;FMTTYPE=image/jpeg:https://thebeatsofafrica.com/wp-content/uploads/2026/03/6uffzaddy-UK-Tour.jpg
END:VEVENT
BEGIN:VEVENT
DTSTART;TZID=+02:00:20260320T220000
DTEND;TZID=+02:00:20260321T040000
DTSTAMP:20260424T140953
CREATED:20260303T031001Z
LAST-MODIFIED:20260303T031001Z
UID:12865-1774044000-1774065600@thebeatsofafrica.com
SUMMARY:Famalay Affair Prague
DESCRIPTION:
URL:https://thebeatsofafrica.com/beats-event/famalay-affair-prague/
LOCATION:Radost FX\, Bělehradská 234/120\, Prague\, 12000\, Czech Republic
CATEGORIES:Club Night
ATTACH;FMTTYPE=image/jpeg:https://thebeatsofafrica.com/wp-content/uploads/2026/03/Famalay-Affair-Prague.jpg
END:VEVENT
BEGIN:VEVENT
DTSTART;TZID=+02:00:20260320T220000
DTEND;TZID=+02:00:20260321T050000
DTSTAMP:20260424T140953
CREATED:20260303T030942Z
LAST-MODIFIED:20260303T030942Z
UID:12857-1774044000-1774069200@thebeatsofafrica.com
SUMMARY:Amapiano Worldwide
DESCRIPTION:
URL:https://thebeatsofafrica.com/beats-event/amapiano-worldwide/
LOCATION:Bitterzoet\, Spuistraat 2\, Amsterdam\, 1012 TS\, Netherlands
CATEGORIES:Club Night
ATTACH;FMTTYPE=image/avif:https://thebeatsofafrica.com/wp-content/uploads/2026/03/Amapiano-Worldwide.avif
END:VEVENT
BEGIN:VEVENT
DTSTART;TZID=GMT:20260320T223000
DTEND;TZID=GMT:20260321T030000
DTSTAMP:20260424T140953
CREATED:20260118T180631Z
LAST-MODIFIED:20260118T180631Z
UID:11935-1774045800-1774062000@thebeatsofafrica.com
SUMMARY:DJ Obi Live
DESCRIPTION:
URL:https://thebeatsofafrica.com/beats-event/dj-obi-live/
CATEGORIES:Club Night
ATTACH;FMTTYPE=image/avif:https://thebeatsofafrica.com/wp-content/uploads/2026/01/DJ-Obi-at-Jazz-Cafe-.avif
END:VEVENT
BEGIN:VEVENT
DTSTART;TZID=+02:00:20260321T180000
DTEND;TZID=+02:00:20260322T020000
DTSTAMP:20260424T140953
CREATED:20260303T031144Z
LAST-MODIFIED:20260303T031144Z
UID:12899-1774116000-1774144800@thebeatsofafrica.com
SUMMARY:Soundz of Neptune Ministry Rwanda
DESCRIPTION:
URL:https://thebeatsofafrica.com/beats-event/soundz-of-neptune-ministry-rwanda/
LOCATION:Atelier Du Vin\, Gatuna Road Karuruma\, Kigali\, 3774\, Rwanda
CATEGORIES:Concert
ATTACH;FMTTYPE=image/jpeg:https://thebeatsofafrica.com/wp-content/uploads/2026/03/Soundz-of-Neptune-Ministry-Rwanda.jpeg
END:VEVENT
BEGIN:VEVENT
DTSTART;TZID=+01:00:20260321T190000
DTEND;TZID=+01:00:20260322T020000
DTSTAMP:20260424T140953
CREATED:20260303T030945Z
LAST-MODIFIED:20260303T030945Z
UID:12859-1774119600-1774144800@thebeatsofafrica.com
SUMMARY:BLTP - Bimi Likes To Party Live in Lagos
DESCRIPTION:
URL:https://thebeatsofafrica.com/beats-event/bltp-bimi-likes-to-party-live-in-lagos/
LOCATION:Amore Gardens\, Victoria Island\, Lagos\, 106104\, Nigeria
CATEGORIES:Concert
ATTACH;FMTTYPE=image/jpeg:https://thebeatsofafrica.com/wp-content/uploads/2026/03/BLTP-Bimi-Likes-To-Party-Live-in-Lagos.jpg
END:VEVENT
BEGIN:VEVENT
DTSTART;TZID=-05:00:20260321T220000
DTEND;TZID=-05:00:20260322T040000
DTSTAMP:20260424T140953
CREATED:20260303T030959Z
LAST-MODIFIED:20260303T030959Z
UID:12864-1774130400-1774152000@thebeatsofafrica.com
SUMMARY:DJames Kickit at Faaji Nights NYC
DESCRIPTION:
URL:https://thebeatsofafrica.com/beats-event/djames-kickit-at-faaji-nights-nyc/
LOCATION:Crown Hill Theatre\, 750 Nostrand Ave\, Brooklyn NY\, NY 11216\, United States
CATEGORIES:Club Night
ATTACH;FMTTYPE=image/webp:https://thebeatsofafrica.com/wp-content/uploads/2026/03/FAAJI-NIGHTS-RETURN-OF-THE-KING-OF-BLENDS-.webp
END:VEVENT
BEGIN:VEVENT
DTSTART;TZID=GMT:20260321T220000
DTEND;TZID=GMT:20260322T040000
DTSTAMP:20260424T140953
CREATED:20260303T031156Z
LAST-MODIFIED:20260303T031156Z
UID:12902-1774130400-1774152000@thebeatsofafrica.com
SUMMARY:The Shoday Experience
DESCRIPTION:
URL:https://thebeatsofafrica.com/beats-event/the-shoday-experience/
LOCATION:Coded Birmingham\, 90-96 Hospital St\, Birmingham\, B19 3QP\, United Kingdom
CATEGORIES:Concert
ATTACH;FMTTYPE=image/jpeg:https://thebeatsofafrica.com/wp-content/uploads/2026/03/shoday.jpg
END:VEVENT
END:VCALENDAR