BEGIN:VCALENDAR
VERSION:2.0
PRODID:-//The Beats of Africa - ECPv6.15.20//NONSGML v1.0//EN
CALSCALE:GREGORIAN
METHOD:PUBLISH
X-ORIGINAL-URL:https://thebeatsofafrica.com
X-WR-CALDESC:Events for The Beats of Africa
REFRESH-INTERVAL;VALUE=DURATION:PT1H
X-Robots-Tag:noindex
X-PUBLISHED-TTL:PT1H
BEGIN:VTIMEZONE
TZID:Europe/Paris
BEGIN:DAYLIGHT
TZOFFSETFROM:+0100
TZOFFSETTO:+0200
TZNAME:CEST
DTSTART:20250330T010000
END:DAYLIGHT
BEGIN:STANDARD
TZOFFSETFROM:+0200
TZOFFSETTO:+0100
TZNAME:CET
DTSTART:20251026T010000
END:STANDARD
BEGIN:DAYLIGHT
TZOFFSETFROM:+0100
TZOFFSETTO:+0200
TZNAME:CEST
DTSTART:20260329T010000
END:DAYLIGHT
BEGIN:STANDARD
TZOFFSETFROM:+0200
TZOFFSETTO:+0100
TZNAME:CET
DTSTART:20261025T010000
END:STANDARD
BEGIN:DAYLIGHT
TZOFFSETFROM:+0100
TZOFFSETTO:+0200
TZNAME:CEST
DTSTART:20270328T010000
END:DAYLIGHT
BEGIN:STANDARD
TZOFFSETFROM:+0200
TZOFFSETTO:+0100
TZNAME:CET
DTSTART:20271031T010000
END:STANDARD
END:VTIMEZONE
BEGIN:VTIMEZONE
TZID:+02:00
END:VTIMEZONE
BEGIN:VTIMEZONE
TZID:Europe/Madrid
BEGIN:DAYLIGHT
TZOFFSETFROM:+0100
TZOFFSETTO:+0200
TZNAME:CEST
DTSTART:20250330T010000
END:DAYLIGHT
BEGIN:STANDARD
TZOFFSETFROM:+0200
TZOFFSETTO:+0100
TZNAME:CET
DTSTART:20251026T010000
END:STANDARD
BEGIN:DAYLIGHT
TZOFFSETFROM:+0100
TZOFFSETTO:+0200
TZNAME:CEST
DTSTART:20260329T010000
END:DAYLIGHT
BEGIN:STANDARD
TZOFFSETFROM:+0200
TZOFFSETTO:+0100
TZNAME:CET
DTSTART:20261025T010000
END:STANDARD
BEGIN:DAYLIGHT
TZOFFSETFROM:+0100
TZOFFSETTO:+0200
TZNAME:CEST
DTSTART:20270328T010000
END:DAYLIGHT
BEGIN:STANDARD
TZOFFSETFROM:+0200
TZOFFSETTO:+0100
TZNAME:CET
DTSTART:20271031T010000
END:STANDARD
END:VTIMEZONE
BEGIN:VEVENT
DTSTART;TZID=Europe/Paris:20260424T200000
DTEND;TZID=Europe/Paris:20260424T230000
DTSTAMP:20260424T140448
CREATED:20260126T200140Z
LAST-MODIFIED:20260126T200144Z
UID:12181-1777060800-1777071600@thebeatsofafrica.com
SUMMARY:Zaiko Langa Langa - Jossart Nyoka Longo
DESCRIPTION:
URL:https://thebeatsofafrica.com/beats-event/zaiko-langa-langa-jossart-nyoka-longo/
LOCATION:Zénith Paris – La Villette\, 211 Av. Jean Jaurès\, Paris\, 75019\, France
CATEGORIES:Concert
ATTACH;FMTTYPE=image/jpeg:https://thebeatsofafrica.com/wp-content/uploads/2026/01/Zaiko-Langa-Langa.jpg
END:VEVENT
BEGIN:VEVENT
DTSTART;TZID=+02:00:20260425T160000
DTEND;TZID=+02:00:20260426T020000
DTSTAMP:20260424T140448
CREATED:20260303T031100Z
LAST-MODIFIED:20260303T031100Z
UID:12884-1777132800-1777168800@thebeatsofafrica.com
SUMMARY:Harris Music Festival - Scotts Maphuma
DESCRIPTION:
URL:https://thebeatsofafrica.com/beats-event/harris-music-festival-scotts-maphuma/
CATEGORIES:Festival
ATTACH;FMTTYPE=image/jpeg:https://thebeatsofafrica.com/wp-content/uploads/2026/03/Harris-Music-Festival-Scotts-Maphuma.jpg
END:VEVENT
BEGIN:VEVENT
DTSTART;TZID=+02:00:20260425T200000
DTEND;TZID=+02:00:20260426T030000
DTSTAMP:20260424T140448
CREATED:20260303T031057Z
LAST-MODIFIED:20260303T031057Z
UID:12882-1777147200-1777172400@thebeatsofafrica.com
SUMMARY:GIMS Live at LIFT
DESCRIPTION:
URL:https://thebeatsofafrica.com/beats-event/gims-live-at-lift/
LOCATION:LIFT\, Quai des Usines 20\, Bruxelles\, 1000\, Belgium
CATEGORIES:Concert
ATTACH;FMTTYPE=image/jpeg:https://thebeatsofafrica.com/wp-content/uploads/2026/03/GIMS-Live-at-LIFT.jpg
END:VEVENT
BEGIN:VEVENT
DTSTART;TZID=Europe/Madrid:20260426T200000
DTEND;TZID=Europe/Madrid:20260426T235900
DTSTAMP:20260424T140448
CREATED:20260118T180534Z
LAST-MODIFIED:20260118T180534Z
UID:11916-1777233600-1777247940@thebeatsofafrica.com
SUMMARY:Amaarae
DESCRIPTION:
URL:https://thebeatsofafrica.com/beats-event/amaarae/
LOCATION:L’Olympia\, 28 Bd des Capucines\, Paris\, Paris\, 75009\, France
CATEGORIES:Concert
ATTACH;FMTTYPE=image/jpeg:https://thebeatsofafrica.com/wp-content/uploads/2026/01/amaarae-lolympia-paris.jpg
END:VEVENT
BEGIN:VEVENT
DTSTART;TZID=+02:00:20260430T230000
DTEND;TZID=+02:00:20260501T060000
DTSTAMP:20260424T140448
CREATED:20260303T031141Z
LAST-MODIFIED:20260303T031141Z
UID:12897-1777590000-1777615200@thebeatsofafrica.com
SUMMARY:Shimza & CO at Pacha Ibiza
DESCRIPTION:
URL:https://thebeatsofafrica.com/beats-event/shimza-co-at-pacha-ibiza/
LOCATION:Pacha Ibiza\, Av. 8 d'Agost\, Ibiza\, 07800\, Spain
CATEGORIES:Club Night
ATTACH;FMTTYPE=image/jpeg:https://thebeatsofafrica.com/wp-content/uploads/2026/03/Shimza-CO-at-Pacha-Ibiza.jpg
END:VEVENT
END:VCALENDAR